BEGIN:VCALENDAR
VERSION:2.0
PRODID:-//ChamberMaster//Event Calendar 2.0//EN
METHOD:PUBLISH
X-PUBLISHED-TTL:P3D
REFRESH-INTERVAL:P3D
CALSCALE:GREGORIAN
BEGIN:VEVENT
DTSTART:20190425T113000Z
DTEND:20190425T134500Z
X-MICROSOFT-CDO-ALLDAYEVENT:FALSE
SUMMARY:2019 Legislative Wrap Up
DESCRIPTION:Looking for answers to questions that impact our community?\n\nJoin the Harford County Chamber of Commerce for an opportunity to have breakfast with the Harford County Delegation while they speak about the 2019 Maryland General Assembly legislative session outcomes and plans for future success.\n\n\n\nAs a member of our local business community\, it is important to establish relationships with your local legislative representatives. This is a wonderful opportunity to meet them and to ask any questions you may have pertinent to your business and its grow here in Harford County!
X-ALT-DESC;FMTTYPE=text/html:<p>Looking for answers to questions that impact our community?</p>\n\n<p>Join the Harford County Chamber of Commerce for an opportunity to have breakfast with the Harford County Delegation while they speak about the 2019&nbsp\;Maryland General Assembly legislative session outcomes and plans for future success.<br />\n<br />\nAs a member of our local business community\, it is important to establish&nbsp\;relationships with your local legislative representatives. This is a wonderful opportunity to meet them and to ask any questions you may have pertinent to your business and its grow here in Harford County!&nbsp\;</p>\n
LOCATION:Harford Community College Chesapeake Dining Room 401 Thomas Run Road Bel Air\, MD 21015
UID:e.2776.6316
SEQUENCE:3
DTSTAMP:20260424T101426Z
URL:https://business.harfordchamber.org/events/details/2019-legislative-wrap-up-6316
END:VEVENT

END:VCALENDAR
