BEGIN:VCALENDAR
VERSION:2.0
PRODID:-//ChamberMaster//Event Calendar 2.0//EN
METHOD:PUBLISH
X-PUBLISHED-TTL:P3D
REFRESH-INTERVAL:P3D
CALSCALE:GREGORIAN
BEGIN:VEVENT
DTSTART:20250514T150000Z
DTEND:20250514T173000Z
X-MICROSOFT-CDO-ALLDAYEVENT:FALSE
SUMMARY:2025 48th Military Appreciation Luncheon presented by Freedom Federal Credit Union
DESCRIPTION:Join the Harford County Chamber of Commerce for the 48th Military Appreciation Luncheon where the business community gathers together with the APG community to recognize the service of our military men and women.
X-ALT-DESC;FMTTYPE=text/html:<span style="font-size:18px\;">Join the Harford County Chamber of Commerce for the 48th Military Appreciation Luncheon where the business community gathers together with the APG community to recognize the service of our military men and women.&nbsp\;&nbsp\;</span>
LOCATION:Top of the Bay 30 Plumb Point Drive APG North APG\, MD 21005 ** You will need to show a valid U.S. ID to clear security **
UID:e.2776.15144
SEQUENCE:3
DTSTAMP:20260421T184249Z
URL:https://business.harfordchamber.org/events/details/2025-48th-military-appreciation-luncheon-presented-by-freedom-federal-credit-union-15144
END:VEVENT

END:VCALENDAR
