BEGIN:VCALENDAR
VERSION:2.0
PRODID:-//ChamberMaster//Event Calendar 2.0//EN
METHOD:PUBLISH
X-PUBLISHED-TTL:P3D
REFRESH-INTERVAL:P3D
CALSCALE:GREGORIAN
BEGIN:VEVENT
DTSTART:20250618T210000Z
DTEND:20250619T000000Z
X-MICROSOFT-CDO-ALLDAYEVENT:FALSE
SUMMARY:2025 Annual Dinner & Gavel Exchange Presented by University of Maryland Upper Chesapeake Health
DESCRIPTION:Join the Harford County Chamber of Commerce as we come together as one united voice for business in Harford County! Annual Dinner & Gavel Exchange celebrates our Chamber family and all that we have accomplished this year! Enjoy dinner with your fellow members\, both new and old\, as we recognize our Member of the Year\, Hall of Fame recipient\, and elect new members to our Board of Directors.
X-ALT-DESC;FMTTYPE=text/html:<span style="font-size:14px\;"><span style="font-family:arial\;"><span style="color: rgb(29\, 33\, 41)\; white-space: pre-wrap\;">Join the Harford County Chamber of Commerce as we come together as one united voice for business in Harford County! Annual Dinner &amp\; Gavel Exchange celebrates our Chamber family and all that we have accomplished this year! Enjoy dinner with your fellow members\, both new and old\, as we recognize our Member of the Year\, Hall of Fame recipient\, and elect new members to our Board of Directors. </span></span></span><br />\n<span style="font-size:14px\;">&nbsp\;</span>
LOCATION:Maryland Golf & Country Clubs 1335 East MacPhail Rd. Bel Air 21015
UID:e.2776.15143
SEQUENCE:3
DTSTAMP:20260421T170049Z
URL:https://business.harfordchamber.org/events/details/2025-annual-dinner-gavel-exchange-presented-by-university-of-maryland-upper-chesapeake-health-15143
END:VEVENT

END:VCALENDAR
