BEGIN:VCALENDAR
VERSION:2.0
PRODID:-//ChamberMaster//Event Calendar 2.0//EN
METHOD:PUBLISH
X-PUBLISHED-TTL:P3D
REFRESH-INTERVAL:P3D
CALSCALE:GREGORIAN
BEGIN:VEVENT
DTSTART:20250613T120000Z
DTEND:20250613T140000Z
X-MICROSOFT-CDO-ALLDAYEVENT:FALSE
SUMMARY:2025 Education & Scholarship Breakfast presented by Towson University in Northeastern Maryland & Harford Community College
DESCRIPTION:Join us for the 2025 Education & Scholarship Breakfast! Honorees include the 2025 Harford County Chamber of Commerce Education Foundation's scholarship recipients with a keynote address from Harford County Public School's Teacher of the Year.
X-ALT-DESC;FMTTYPE=text/html:Join us for the 2025 Education &amp\; Scholarship Breakfast! Honorees include the 2025 Harford County Chamber of Commerce Education Foundation&#39\;s scholarship recipients with a keynote address from Harford County Public School&#39\;s Teacher of the Year.
LOCATION:Towson University in Northeastern Maryland 510 Thomas Run Road Bel Air\, MD 21015
UID:e.2776.15142
SEQUENCE:3
DTSTAMP:20260421T170244Z
URL:https://business.harfordchamber.org/events/details/2025-education-scholarship-breakfast-presented-by-towson-university-in-northeastern-maryland-harford-community-college-15142
END:VEVENT

END:VCALENDAR
