BEGIN:VCALENDAR
VERSION:2.0
PRODID:-//ChamberMaster//Event Calendar 2.0//EN
METHOD:PUBLISH
X-PUBLISHED-TTL:P3D
REFRESH-INTERVAL:P3D
CALSCALE:GREGORIAN
BEGIN:VEVENT
DTSTART:20251020T210000Z
DTEND:20251021T000000Z
X-MICROSOFT-CDO-ALLDAYEVENT:FALSE
SUMMARY:2025 Harford Award in partnership with the Harford County Economic Development presented by Harford Community College & University of Maryland Upper Chesapeake Health
DESCRIPTION:Enjoy an evening among the stars with the Harford County Chamber of Commerce as we announce and celebrate the 2025 Harford Award winners! This prestigious award honors companies and organizations that exemplify a strong commitment to the Harford County business community. \n\n\n\nRecipients of this distinguished honor are chosen through a nomination process focused on business growth\, service to the community\, unique and creative business strategies\, and a drive to enhance Harford County's business climate.
X-ALT-DESC;FMTTYPE=text/html:<span style="font-size:16px\;">Enjoy an evening among the stars with the Harford County Chamber of Commerce as we announce and celebrate the 2025 Harford Award winners! This prestigious award honors companies and organizations that exemplify a strong commitment to the Harford County business community.&nbsp\;<br />\n<br />\nRecipients of this distinguished honor are chosen through a nomination process focused on business growth\, service to the community\, unique and creative business strategies\, and a drive to enhance Harford County&#39\;s business climate.&nbsp\;</span>
LOCATION:Water's Edge Events Center 4687 Millennium Drive Belcamp\, MD 21017
UID:e.2776.16056
SEQUENCE:3
DTSTAMP:20260421T125103Z
URL:https://business.harfordchamber.org/events/details/2025-harford-award-in-partnership-with-the-harford-county-economic-development-presented-by-harford-community-college-university-of-maryland-upper-chesapeake-health-16056
END:VEVENT

END:VCALENDAR
