BEGIN:VCALENDAR
VERSION:2.0
PRODID:-//ChamberMaster//Event Calendar 2.0//EN
METHOD:PUBLISH
X-PUBLISHED-TTL:P3D
REFRESH-INTERVAL:P3D
CALSCALE:GREGORIAN
BEGIN:VEVENT
DTSTART:20190907T123000Z
DTEND:20190907T233000Z
X-MICROSOFT-CDO-ALLDAYEVENT:FALSE
SUMMARY:3-year Anniversary Events at True Cycling Fitness Studio
DESCRIPTION:True Cycling has revamped! Join their 3-year Anniversary events:\n\n\n	Party Classes: 8:30-11:30 AM\, $5/class. 30-min sessions for Cycling\, Boot Camp\, Zumba Strong\, and TRX-Yoga. Book online at www.truecycligstudio.com\n	Reception: 5:30-7:00 PM. Light refreshments\, door prizes\, and demonstrations.\n	Annual Sale: Exclusive 3-month plans\, locked-in rates\, auto-renewal. 25% off on studio's merchandise. Available online and at the studio.
X-ALT-DESC;FMTTYPE=text/html:<div style="margin-left:0px\; margin-right:0px\; text-align:left"><span style="font-size:14px"><span style="font-family:arial\,helvetica\,sans-serif"><span style="background-color:rgb(255\, 255\, 255)\; color:rgb(51\, 51\, 51)">True Cycling has </span><strong>revamped</strong>! Join their 3-year Anniversary events:</span></span></div>\n\n<ul>\n	<li style="text-align:left"><span style="font-size:14px"><span style="font-family:arial\,helvetica\,sans-serif"><strong>Party Classes</strong><span style="background-color:rgb(255\, 255\, 255)\; color:rgb(51\, 51\, 51)">: 8:30-11:30 AM\, $5/class. 30-min sessions for Cycling\, Boot Camp\, Zumba Strong\, and TRX-Yoga. Book online at <a href="https://truecycling.zingfit.com/reserve/index.cfm?action=Reserve.chooseClass&amp\;site=1">www.truecycligstudio.com</a></span></span></span></li>\n	<li style="text-align:left"><span style="font-size:14px"><span style="font-family:arial\,helvetica\,sans-serif"><strong>Reception</strong>: 5:30-7:00 PM. Light refreshments\, door prizes\, and demonstrations.</span></span></li>\n	<li style="text-align:left"><span style="font-size:14px"><span style="font-family:arial\,helvetica\,sans-serif"><strong>Annual Sale:</strong> Exclusive 3-month plans\, locked-in rates\, auto-renewal. 25% off on studio&#39\;s merchandise. Available <a href="https://www.truecyclingstudio.com/buy">online</a> and at the studio.</span></span></li>\n</ul>\n
LOCATION:True Cycling Fitness Studio 3473 Merchant Boulevard\, Ste. B. Abingdon\, MD. 21009 (by Wegmans and JCPenney)
UID:e.2776.8530
SEQUENCE:3
DTSTAMP:20260426T012510Z
URL:https://business.harfordchamber.org/events/details/3-year-anniversary-events-at-true-cycling-fitness-studio-8530
END:VEVENT

END:VCALENDAR
