BEGIN:VCALENDAR
VERSION:2.0
PRODID:-//ChamberMaster//Event Calendar 2.0//EN
METHOD:PUBLISH
X-PUBLISHED-TTL:P3D
REFRESH-INTERVAL:P3D
CALSCALE:GREGORIAN
BEGIN:VEVENT
DTSTART;VALUE=DATE:20251014
DTEND;VALUE=DATE:20251015
TRANSP:TRANSPARENT
X-MICROSOFT-CDO-ALLDAYEVENT:TRUE
SUMMARY:3rd Annual Impact Maryland 2025
DESCRIPTION:The Harford County Chamber of Commerce is proud to be a promotional sponsor at the 3rd annual Impact Maryland event!\n\n \nDon't miss Impact Maryland 2025\, hosted by The Baltimore Banner! One of the event's headlining moments: an exclusive conversation between David M. Rubenstein and Governor Wes Moore\, exploring leadership\, legacy\, and the future of Maryland.\n\nWith a full day of bold ideas and powerful voices shaping the state's future\, this is a must-attend experience.\n\nLearn more and get tickets: https://impactmaryland.thebaltimorebanner.com/
X-ALT-DESC;FMTTYPE=text/html:The Harford County Chamber of Commerce is proud to be a promotional sponsor at the 3rd annual Impact Maryland event!<br />\n&nbsp\;\n<p class="x_MsoNormal" style="margin: 0in\; font-size: 12pt\; font-family: Aptos\, sans-serif\; color: rgb(36\, 36\, 36)\;"><span data-olk-copy-source="MessageBody" style="border: 0px\; font-style: inherit\; font-variant: inherit\; font-weight: inherit\; font-stretch: inherit\; font-size: 11pt\; line-height: inherit\; font-family: Calibri\, sans-serif\; font-optical-sizing: inherit\; font-size-adjust: inherit\; font-kerning: inherit\; font-feature-settings: inherit\; font-variation-settings: inherit\; margin: 0px\; padding: 0px\; vertical-align: baseline\; color: inherit\;">Don&rsquo\;t miss&nbsp\;<b>Impact Maryland 2025</b>\, hosted by The Baltimore Banner! One of the event&rsquo\;s headlining moments: an exclusive conversation between&nbsp\;<b>David M. Rubenstein</b>&nbsp\;and&nbsp\;<b>Governor Wes Moore</b>\, exploring leadership\, legacy\, and the future of Maryland.<br />\nWith a full day of bold ideas and powerful voices shaping the state&rsquo\;s future\, this is a must-attend experience.</span></p>\n\n<p class="x_MsoNormal" style="margin: 0in\; font-size: 12pt\; font-family: Aptos\, sans-serif\; color: rgb(36\, 36\, 36)\;"><span style="border: 0px\; font-style: inherit\; font-variant: inherit\; font-weight: inherit\; font-stretch: inherit\; font-size: 11pt\; line-height: inherit\; font-family: Calibri\, sans-serif\; font-optical-sizing: inherit\; font-size-adjust: inherit\; font-kerning: inherit\; font-feature-settings: inherit\; font-variation-settings: inherit\; margin: 0px\; padding: 0px\; vertical-align: baseline\; color: inherit\;">Learn more and get tickets:&nbsp\;</span><span style="border: 0px\; font-style: inherit\; font-variant: inherit\; font-weight: inherit\; font-stretch: inherit\; font-size: 11pt\; line-height: inherit\; font-family: Calibri\, sans-serif\; font-optical-sizing: inherit\; font-size-adjust: inherit\; font-kerning: inherit\; font-feature-settings: inherit\; font-variation-settings: inherit\; margin: 0px\; padding: 0px\; vertical-align: baseline\; color: inherit\;"><a data-auth="NotApplicable" data-linkindex="3" href="https://impactmaryland.thebaltimorebanner.com/" rel="noopener noreferrer" style="border: 0px\; font: inherit\; margin: 0px\; padding: 0px\; vertical-align: baseline\; color: rgb(70\, 120\, 134)\;" target="_blank" title="https://impactmaryland.thebaltimorebanner.com/"><span style="border: 0px\; font: inherit\; margin: 0px\; padding: 0px\; vertical-align: baseline\; color: rgb(150\, 96\, 125) !important\;">https://impactmaryland.thebaltimorebanner.com/</span></a></span></p>\n
LOCATION:
UID:e.2776.16079
SEQUENCE:3
DTSTAMP:20260423T091543Z
URL:https://business.harfordchamber.org/events/details/3rd-annual-impact-maryland-2025-16079
END:VEVENT

END:VCALENDAR
