BEGIN:VCALENDAR
VERSION:2.0
PRODID:-//ChamberMaster//Event Calendar 2.0//EN
METHOD:PUBLISH
X-PUBLISHED-TTL:P3D
REFRESH-INTERVAL:P3D
CALSCALE:GREGORIAN
BEGIN:VEVENT
DTSTART:20191026T230000Z
DTEND:20191027T030000Z
X-MICROSOFT-CDO-ALLDAYEVENT:FALSE
SUMMARY:4th Annual Ghoul and Oyster Roast
DESCRIPTION:4th Annual Ghoul and Oyster Roast to benefit The Harford Center. The event is an All-You-Can-Eat/All-You-Can-Drink adult costume party emceed by Kristy Breslin of WJZ-TV. There will be live music\, dancing\, auctions\, raffles\, a costume contest\, and more. It's a good time and a great cause! To learn more about the Harford Center\, please visit www.harfordcenter.org. To buy tickets\, please visit www.harfordcenter.org/events or call 410-939-1420.
X-ALT-DESC;FMTTYPE=text/html:4th Annual Ghoul and Oyster Roast to benefit The Harford Center. The event is an All-You-Can-Eat/All-You-Can-Drink adult costume party emceed by Kristy Breslin of WJZ-TV. There will be live music\, dancing\, auctions\, raffles\, a costume contest\, and more. It&#39\;s a good time and a great cause! To learn more about the Harford Center\, please visit www.harfordcenter.org. To buy tickets\, please visit www.harfordcenter.org/events or call 410-939-1420.
LOCATION:Richlin Ballroom 1700 Van Bibber Road Edgewood\, MD 21040
UID:e.2776.8464
SEQUENCE:3
DTSTAMP:20260425T000707Z
URL:https://business.harfordchamber.org/events/details/4th-annual-ghoul-and-oyster-roast-8464
END:VEVENT

END:VCALENDAR
