BEGIN:VCALENDAR
VERSION:2.0
PRODID:-//ChamberMaster//Event Calendar 2.0//EN
METHOD:PUBLISH
X-PUBLISHED-TTL:P3D
REFRESH-INTERVAL:P3D
CALSCALE:GREGORIAN
BEGIN:VEVENT
DTSTART:20191011T223000Z
DTEND:20191012T013000Z
X-MICROSOFT-CDO-ALLDAYEVENT:FALSE
SUMMARY:5th Annual Harford Plein Air Festival: Collectors' Preview Party\, Awards Ceremony\, & Sale
DESCRIPTION:Harford County scenes by 30 juried artists in the Maryland Center for the Arts' Harford Plein Air Festival will be unveiled at the Collector's Preview Reception & Awards Ceremony\, Friday\, October 11\, 6:30-9:30pm\, Bel Air Armory\, 37 N. Main St. Judge Crystal Moll will select winners in several categories. Collectors' Preview Tickets at $50/individual or $75/couple entitles individuals or couples to a $50 voucher toward purchase of an exhibited painting.  Catering by Main Street Tower Restaurant.  Details at www.mdcfa.org or 443-567-5216.  The Harford Plein Air Festival is supported by the Harford County Cultural Arts Board with funds from the Maryland State Arts Council.
X-ALT-DESC;FMTTYPE=text/html:<span style="color:#333333"><span style="font-family:times new roman\,serif"><span style="font-size:12.0pt">Harford County scenes by 30 juried artists in the Maryland Center for the Arts&rsquo\; Harford Plein Air Festival will be unveiled at the </span></span></span><span style="font-family:times new roman\,serif"><span style="font-size:12.0pt"><a href="https://www.mdcenterforthearts.org/collectors-preview-gallery-sale-and-awards.html" target="_blank"><span style="color:windowtext">Collector&#39\;s Preview Reception &amp\; Awards Ceremony</span></a>\, Friday\, October 11\, 6:30-9:30pm\, Bel Air Armory\, 37 N. Main St. Judge <a href="https://www.crystalmoll.com/" target="_blank"><span style="color:windowtext">Crystal Moll</span></a> will select winners in several categories. Collectors&rsquo\; Preview Tickets at $50/individual or $75/couple entitles individuals or couples<span style="color:#333333"> to a $50 voucher toward purchase of an exhibited painting.&nbsp\; C</span><span style="color:#2A2A2A">atering by </span><a href="http://www.mainstreettower.com/" target="_blank"><span style="color:windowtext">Main Street Tower Restaurant</span></a>.&nbsp\; Details at <a href="http://www.mdcfa.org/">www.mdcfa.org</a></span> or 443-567-5216.&nbsp\;&nbsp\;</span><span style="font-size:16px"><span style="color:rgb(34\, 34\, 34)\; font-family:merriweather\,serif"><span style="font-size:14px">The Harford Plein Air Festival is supported by the Harford County Cultural Arts Board with funds from the Maryland State Arts Council.</span></span></span><span style="font-family:times new roman\,serif"> </span>
LOCATION:Bel Air Armory\, 37 N. Main St.\, Bel Air\, 21014
UID:e.2776.8437
SEQUENCE:3
DTSTAMP:20260425T001419Z
URL:https://business.harfordchamber.org/events/details/5th-annual-harford-plein-air-festival-collectors-preview-party-awards-ceremony-sale-8437
END:VEVENT

END:VCALENDAR
