BEGIN:VCALENDAR
VERSION:2.0
PRODID:-//ChamberMaster//Event Calendar 2.0//EN
METHOD:PUBLISH
X-PUBLISHED-TTL:P3D
REFRESH-INTERVAL:P3D
CALSCALE:GREGORIAN
BEGIN:VEVENT
DTSTART:20191006T170000Z
DTEND:20191006T200000Z
X-MICROSOFT-CDO-ALLDAYEVENT:FALSE
SUMMARY:5th Annual Harford Plein Air Festival: Meet the Artists
DESCRIPTION:Meet the 30 juried artists competing in the 5th Annual Maryland Center for the Arts' Harford Plein Air Festival\, Sunday\, October 6\, 1-4pm\, Liriodendron Mansion\, 502 W. Gordon St.\, Bel Air at a mini-reception and exhibit of their previous paintings.  Entertainment by members of the Upper Chesapeake Chorus of Sweet Adelines International.  The Harford Plein Air Festival is supported by the Harford County Cultural Arts Board with funds from the Maryland State Arts Council.
X-ALT-DESC;FMTTYPE=text/html:<span style="color:#2A2A2A"><span style="font-family:times new roman\,serif"><span style="font-size:12.0pt">Meet the 30 juried artists competing in the 5th Annual Maryland Center for the Arts&rsquo\; Harford Plein Air Festival\, Sunday\, October 6\, 1-4pm\, Liriodendron Mansion\, 502 W. Gordon St.\, Bel Air at a mini-reception and exhibit of their previous paintings.&nbsp\; Entertainment by members of the Upper Chesapeake Chorus of Sweet Adelines International.&nbsp\; The Harford Plein Air Festival is supported by the Harford County Cultural Arts Board with funds from the Maryland State Arts Council.</span></span></span>
LOCATION:The Liriodendron\, 502 W. Gordon St.\, Bel Air
UID:e.2776.8439
SEQUENCE:3
DTSTAMP:20260425T001301Z
URL:https://business.harfordchamber.org/events/details/5th-annual-harford-plein-air-festival-meet-the-artists-8439
END:VEVENT

END:VCALENDAR
