BEGIN:VCALENDAR
VERSION:2.0
PRODID:-//ChamberMaster//Event Calendar 2.0//EN
METHOD:PUBLISH
X-PUBLISHED-TTL:P3D
REFRESH-INTERVAL:P3D
CALSCALE:GREGORIAN
BEGIN:VEVENT
DTSTART:20191012T150000Z
DTEND:20191012T210000Z
X-MICROSOFT-CDO-ALLDAYEVENT:FALSE
SUMMARY:5th Annual Harford Plein Air Festival: Public Gallery & Sale
DESCRIPTION:Thirty juried artists from around the U.S. will paint outdoor scenes of Harford County during the 5th Annual Maryland Center for the Arts' Harford Plein Air Festival\, October 6-11.  View and purchase these unique paintings on Saturday\, October 12\, 11am-5pm\, Bel Air Armory\, 37 N. Main St.\; free admission.  The Harford Plein Air Festival is supported by the Harford County Cultural Arts Board with funds from the Maryland State Arts Council.
X-ALT-DESC;FMTTYPE=text/html:<span style="color:#2A2A2A"><span style="font-family:times new roman\,serif"><span style="font-size:12.0pt">Thirty juried artists from around the U.S. will paint outdoor scenes of Harford County during the 5th Annual Maryland Center for the Arts&rsquo\; Harford Plein Air Festival\, October 6-11.&nbsp\; View and purchase these unique paintings on Saturday\, October 12\, 11am-5pm\, Bel Air Armory\, 37 N. Main St.\; free admission.&nbsp\; The Harford Plein Air Festival is supported by the Harford County Cultural Arts Board with funds from the Maryland State Arts Council.</span></span></span>
LOCATION:Bel Air Armory\, 37 N. Main St.\, Bel Air 21014
UID:e.2776.8440
SEQUENCE:3
DTSTAMP:20260425T001423Z
URL:https://business.harfordchamber.org/events/details/5th-annual-harford-plein-air-festival-public-gallery-sale-8440
END:VEVENT

END:VCALENDAR
