BEGIN:VCALENDAR
VERSION:2.0
PRODID:-//ChamberMaster//Event Calendar 2.0//EN
METHOD:PUBLISH
X-PUBLISHED-TTL:P3D
REFRESH-INTERVAL:P3D
CALSCALE:GREGORIAN
BEGIN:VEVENT
DTSTART:20250419T220000Z
DTEND:20250420T020000Z
X-MICROSOFT-CDO-ALLDAYEVENT:FALSE
SUMMARY:A Celebrations of Champions Inaugural Gala
DESCRIPTION:The American Legion Department of Maryland presents "A Celebration of Champions Inaugural Gala."\n\nCocktail Attire - Social Hour\n\nHors D'oeuvres & Dinner\n\nAll proceeds will go to the Commander's Project supporting Veterans Affairs and Rehabilitation.\n\n\n\nFor sponsorship information contact:\n\nJulie Daly\n\njulid705@aol.com
X-ALT-DESC;FMTTYPE=text/html:The American Legion Department of Maryland presents &quot\;A Celebration of Champions Inaugural Gala.&quot\;<br />\nCocktail Attire - Social Hour<br />\nHors D&#39\;oeuvres &amp\; Dinner<br />\nAll proceeds will go to the Commander&#39\;s Project supporting Veterans Affairs and Rehabilitation.<br />\n<br />\nFor sponsorship information contact:<br />\nJulie Daly<br />\njulid705@aol.com
LOCATION:Water's Edge Events Center 4687 Millennium Drive Belcamp\, MD 21017
UID:e.2776.15694
SEQUENCE:3
DTSTAMP:20260423T091843Z
URL:https://business.harfordchamber.org/events/details/a-celebrations-of-champions-inaugural-gala-15694
END:VEVENT

END:VCALENDAR
