BEGIN:VCALENDAR
VERSION:2.0
PRODID:-//ChamberMaster//Event Calendar 2.0//EN
METHOD:PUBLISH
X-PUBLISHED-TTL:P3D
REFRESH-INTERVAL:P3D
CALSCALE:GREGORIAN
BEGIN:VEVENT
DTSTART:20191003T223000Z
DTEND:20191004T000000Z
X-MICROSOFT-CDO-ALLDAYEVENT:FALSE
SUMMARY:A Closer look at Social Security Planning and Managing Healthcare Costs in Retirement
DESCRIPTION:Maximizing Social Security income for you and your spouse\n\nUnderstanding the impact and potential costs of starting Social Security benefits before your full retirement age\n\nStrategies to help reduce taxation of Social Security benefits\n\nEstimating your future healthcare costs in retirement\n\nUnderstanding Medicare parts A\, B\, C and D\, what they cover and what they cost
X-ALT-DESC;FMTTYPE=text/html:Maximizing Social Security income for you and your spouse<br />\nUnderstanding the impact and potential costs of starting Social Security benefits before your full retirement age<br />\nStrategies to help reduce taxation of Social Security benefits<br />\nEstimating your future healthcare costs in retirement<br />\nUnderstanding Medicare parts A\, B\, C and D\, what they cover and what they cost
LOCATION:Barrett's on the pike 588 Baltimore Pike Bel Air\, MD 21014
UID:e.2776.8545
SEQUENCE:3
DTSTAMP:20260425T001219Z
URL:https://business.harfordchamber.org/events/details/a-closer-look-at-social-security-planning-and-managing-healthcare-costs-in-retirement-8545
END:VEVENT

END:VCALENDAR
