BEGIN:VCALENDAR
VERSION:2.0
PRODID:-//ChamberMaster//Event Calendar 2.0//EN
METHOD:PUBLISH
X-PUBLISHED-TTL:P3D
REFRESH-INTERVAL:P3D
CALSCALE:GREGORIAN
BEGIN:VEVENT
DTSTART:20190910T190000Z
DTEND:20190910T230000Z
X-MICROSOFT-CDO-ALLDAYEVENT:FALSE
SUMMARY:Aberdeen Entrepreneur Expo
DESCRIPTION:Calling all entrepreneurs! Are you thinking about starting\, expanding\, or moving a business? Join us for at this FREE expo where you will be able to meet experts from various government and private entities who will get you pointed in the right direction. We'll also have Aberdeen property managers there who can give you information on storefronts in our downtown area that would be just right for your business!
X-ALT-DESC;FMTTYPE=text/html:Calling all entrepreneurs! Are you thinking about starting\, expanding\, or moving a business? Join us for at this FREE expo where you will be able to meet experts from various government and private entities who will get you pointed in the right direction. We&#39\;ll also have Aberdeen property managers there who can give you information on storefronts in our downtown area that would be just right for your business!
LOCATION:Aberdeen Activity Center 7 Franklin Street Aberdeen\, MD
UID:e.2776.8463
SEQUENCE:3
DTSTAMP:20260425T234044Z
URL:https://business.harfordchamber.org/events/details/aberdeen-entrepreneur-expo-8463
END:VEVENT

END:VCALENDAR
