BEGIN:VCALENDAR
VERSION:2.0
PRODID:-//ChamberMaster//Event Calendar 2.0//EN
METHOD:PUBLISH
X-PUBLISHED-TTL:P3D
REFRESH-INTERVAL:P3D
CALSCALE:GREGORIAN
BEGIN:VEVENT
DTSTART:20200217T170000Z
DTEND:20200217T190000Z
X-MICROSOFT-CDO-ALLDAYEVENT:FALSE
SUMMARY:Abingdon Planet Fitness Ribbon Cutting
DESCRIPTION:Planet Fitness in Abingdon opened in 2010\, so this year is a major anniversary year for them! This "Re-opening Extravaganza" will include plenty of free food\, giveaways\, and fun!
X-ALT-DESC;FMTTYPE=text/html:<span class="markjl0xcty2f" data-markjs="true" data-ogab="" data-ogac="" data-ogsb="" data-ogsc="" style="margin: 0px\; padding: 0px\; border: 0px\; font-variant-numeric: inherit\; font-variant-east-asian: inherit\; font-stretch: inherit\; font-size: 15px\; line-height: inherit\; font-family: &quot\;Segoe UI&quot\;\, &quot\;Segoe UI Web (West European)&quot\;\, &quot\;Segoe UI&quot\;\, -apple-system\, BlinkMacSystemFont\, Roboto\, &quot\;Helvetica Neue&quot\;\, sans-serif\; vertical-align: baseline\; color: rgb(0\, 0\, 0)\;">Planet</span><span style="color: rgb(0\, 0\, 0)\; font-family: &quot\;Segoe UI&quot\;\, &quot\;Segoe UI Web (West European)&quot\;\, &quot\;Segoe UI&quot\;\, -apple-system\, BlinkMacSystemFont\, Roboto\, &quot\;Helvetica Neue&quot\;\, sans-serif\; font-size: 15px\;">&nbsp\;Fitness in Abingdon opened in 2010\, so this year is a major anniversary year for them! This &ldquo\;Re-opening Extravaganza&rdquo\; will include plenty of free food\, giveaways\, and fun!</span>
LOCATION:3442 Emmorton Road\, Abingdon
UID:e.2776.11670
SEQUENCE:3
DTSTAMP:20260424T233811Z
URL:https://business.harfordchamber.org/events/details/abingdon-planet-fitness-ribbon-cutting-11670
END:VEVENT

END:VCALENDAR
