BEGIN:VCALENDAR
VERSION:2.0
PRODID:-//ChamberMaster//Event Calendar 2.0//EN
METHOD:PUBLISH
X-PUBLISHED-TTL:P3D
REFRESH-INTERVAL:P3D
CALSCALE:GREGORIAN
BEGIN:VEVENT
DTSTART:20191029T200000Z
DTEND:20191029T220000Z
X-MICROSOFT-CDO-ALLDAYEVENT:FALSE
SUMMARY:Adopt a Pet Day at Lorien Bel Air!
DESCRIPTION:Join Lorien Bel Air and The Humane Society of Harford County to find your PURRFECT pet!\n\nPets On Wheels will also be available to go over how to train your pet to be a therapy animal.
X-ALT-DESC;FMTTYPE=text/html:Join Lorien Bel Air and The Humane Society of Harford County to find your PURRFECT pet!<br />\nPets On Wheels will also be available to go over how to train your pet to be a therapy animal.
LOCATION:Lorien Bel Air 1909 Emmorton Rd. Bel Air\, MD 21015
UID:e.2776.8548
SEQUENCE:3
DTSTAMP:20260425T000723Z
URL:https://business.harfordchamber.org/events/details/adopt-a-pet-day-at-lorien-bel-air-8548
END:VEVENT

END:VCALENDAR
