BEGIN:VCALENDAR
VERSION:2.0
PRODID:-//ChamberMaster//Event Calendar 2.0//EN
METHOD:PUBLISH
X-PUBLISHED-TTL:P3D
REFRESH-INTERVAL:P3D
CALSCALE:GREGORIAN
BEGIN:VEVENT
DTSTART;VALUE=DATE:20191006
DTEND;VALUE=DATE:20191007
TRANSP:TRANSPARENT
X-MICROSOFT-CDO-ALLDAYEVENT:TRUE
SUMMARY:Annual "Aberdeen Breast Cancer Awareness" 5K Run
DESCRIPTION:Annual "Aberdeen Breast Cancer Awareness" 5K Run\n\n\n\nYou're invited to participate with the Aberdeen Chamber of Commerce\, Aberdeen Lions Club\, Aberdeen Rotary Club\, American Legion Post\, local government\, friends\, family and survivors of cancer at our Think Pink Aberdeen Md. October 6th.\n\n \n\nTogether\, we'll Paint the Town Pink\, raise funds to support cancer patients right here in Harford County.  From decorating store fronts\, points of sale items to promoting your business and fundraising events throughout the community-including having large Pink Ribbons painted on store windows\, car and more\, as well as our 5K Run\, 1Mile Walk and Kids Fun Run on October 6th.  These efforts will assist cancer victims and their families who struggle with medical bills\, doctor appointments\, treatments and transportation.
X-ALT-DESC;FMTTYPE=text/html:<span style="font-size:12px\;"><span style="font-family:arial\;">Annual &quot\;Aberdeen Breast Cancer Awareness&quot\; 5K Run<br />\n<br />\nYou&rsquo\;re invited to participate with the Aberdeen Chamber of Commerce\, Aberdeen Lions Club\, Aberdeen Rotary Club\, American Legion Post\, local government\, friends\, family and survivors of cancer at our <span style="color:#FF33CC\;">Think Pink Aberdeen Md. </span>October 6<sup>th</sup>.<br />\n&nbsp\;<br />\n<span style="color:black\;">Together\, we&rsquo\;ll </span><span style="color:#FF33CC\;">Paint the Town Pink\,</span> raise funds to support cancer patients right here in Harford County.&nbsp\; From decorating store fronts\, points of sale items to promoting your business and fundraising events throughout the community-including having large Pink Ribbons painted on store windows\, car and more\, as well as our 5K Run\, 1Mile Walk and Kids Fun Run on October 6<sup>th</sup>.&nbsp\; These efforts will assist cancer victims and their families who struggle with medical bills\, doctor appointments\, treatments and transportation.</span></span>
LOCATION:Aberdeen American Legion Post 128 44 N. Parke St. Aberdeen\, MD
UID:e.2776.8549
SEQUENCE:3
DTSTAMP:20260425T000916Z
URL:https://business.harfordchamber.org/events/details/annual-aberdeen-breast-cancer-awareness-5k-run-8549
END:VEVENT

END:VCALENDAR
