BEGIN:VCALENDAR
VERSION:2.0
PRODID:-//ChamberMaster//Event Calendar 2.0//EN
METHOD:PUBLISH
X-PUBLISHED-TTL:P3D
REFRESH-INTERVAL:P3D
CALSCALE:GREGORIAN
BEGIN:VEVENT
DTSTART:20190620T150000Z
DTEND:20190620T171500Z
X-MICROSOFT-CDO-ALLDAYEVENT:FALSE
SUMMARY:Annual Meeting & Gavel Exchange
DESCRIPTION:Join us as we meet to review our 2018-2019 fiscal year\, honor last year?s board members\, hear from our past and current chairs\, and elect new board members for the 2019-2020 year.
X-ALT-DESC;FMTTYPE=text/html:Join us as we meet to review our 2018-2019 fiscal year\, honor last year?s board members\, hear from our past and current chairs\, and elect new board members for the 2019-2020 year.
LOCATION:Mountain Branch Golf Club 1827 Mountain Rd Joppa\, MD 21085
UID:e.2776.6321
SEQUENCE:3
DTSTAMP:20260426T043728Z
URL:https://business.harfordchamber.org/events/details/annual-meeting-gavel-exchange-6321
END:VEVENT

END:VCALENDAR
