BEGIN:VCALENDAR
VERSION:2.0
PRODID:-//ChamberMaster//Event Calendar 2.0//EN
METHOD:PUBLISH
X-PUBLISHED-TTL:P3D
REFRESH-INTERVAL:P3D
CALSCALE:GREGORIAN
BEGIN:VEVENT
DTSTART:20191119T170000Z
DTEND:20191119T180000Z
X-MICROSOFT-CDO-ALLDAYEVENT:FALSE
SUMMARY:Are You Saving Enough for Retirement?
DESCRIPTION:You're Invited to a Lunch N Learn!\n\nLEARN HOW TO SIMPLIFY YOUR APPROACH TO RETIREMENT PLANNING \n\nWhile retirement may seem like a distant dream\, creating a plan now for how you wish to live later can help you realize your retirement dreams when the time comes. This seminar will discuss how to establish a plan of action to help you achieve your retirement goals.
X-ALT-DESC;FMTTYPE=text/html:<p>You&#39\;re Invited to a Lunch N Learn!</p>\n\n<p><strong>LEARN HOW TO SIMPLIFY YOUR APPROACH TO RETIREMENT PLANNING </strong></p>\n\n<p>While retirement may seem like a distant dream\, creating a plan now for how you wish to live later can help you realize your retirement dreams when the time comes. This seminar will discuss how to establish a plan of action to help you achieve your retirement goals.</p>\n
LOCATION:HARFORD CHAMBER OF COMMERCE 108 South Bond Street\, Bel Air\, MD 21014
UID:e.2776.9568
SEQUENCE:3
DTSTAMP:20260424T221047Z
URL:https://business.harfordchamber.org/events/details/are-you-saving-enough-for-retirement-11-19-2019-9568
END:VEVENT

END:VCALENDAR
