BEGIN:VCALENDAR
VERSION:2.0
PRODID:-//ChamberMaster//Event Calendar 2.0//EN
METHOD:PUBLISH
X-PUBLISHED-TTL:P3D
REFRESH-INTERVAL:P3D
CALSCALE:GREGORIAN
BEGIN:VEVENT
DTSTART:20191114T130000Z
DTEND:20191114T150000Z
X-MICROSOFT-CDO-ALLDAYEVENT:FALSE
SUMMARY:Army Alliance Annual Breakfast Meeting - "The Economics of a Defense Community"
DESCRIPTION:The Army Alliance  will hold its Annual Breakfast Meeting  on November 14th  from 8AM to 10AM at the Richlin Ballroom\, Edgewood .  Come hear our panel\, led by Lisa Swoboda (MD Dept of Commerce\, Director of Military and Federal Affairs)\, address the Economics of a Defense Community.  Learn just how APG impacts our state and local economies.  Our other panelists include Kenyata Wesley\, Executive Director\, Army Contracting Command   Aberdeen\; Christopher Moyer\, Director of Economic Development\, Cecil County\; Karen Holt\, Federal Installation Administrator\, Harford County Office of Community and Economic Development\; and Patrick Mullin\, Executive Committee\, Industrial Representatives Association.  CLICK HERE  to purchase tickets by November 6 .
X-ALT-DESC;FMTTYPE=text/html:<span style="background-color:rgb(255\, 255\, 255)\; color:rgb(51\, 51\, 51)\; font-family:arial\; font-size:14px">The </span><strong>Army Alliance </strong><span style="background-color:rgb(255\, 255\, 255)\; color:rgb(51\, 51\, 51)\; font-family:arial\; font-size:14px"> will hold its </span><strong>Annual Breakfast Meeting </strong><span style="background-color:rgb(255\, 255\, 255)\; color:rgb(51\, 51\, 51)\; font-family:arial\; font-size:14px"> on </span><strong>November 14<sup>th </sup> from 8AM to 10AM at the Richlin Ballroom\, Edgewood </strong><span style="background-color:rgb(255\, 255\, 255)\; color:rgb(51\, 51\, 51)\; font-family:arial\; font-size:14px">.&nbsp\; Come hear our panel\, led by Lisa Swoboda (MD Dept of Commerce\, Director of Military and Federal Affairs)\, address the Economics of a Defense Community.&nbsp\; Learn just how APG impacts our state and local economies.&nbsp\; Our other panelists include Kenyata Wesley\, Executive Director\, Army Contracting Command &ndash\; Aberdeen\; Christopher Moyer\, Director of Economic Development\, Cecil County\; Karen Holt\, Federal Installation Administrator\, Harford County Office of Community and Economic Development\; and Patrick Mullin\, Executive Committee\, Industrial Representatives Association.&nbsp\; </span><strong><a href="https://www.eventbrite.com/e/army-alliance-annual-breakfast-tickets-72546798427" rel="nofollow" style="color: rgb(25\, 106\, 212)\; text-decoration: underline\;" target="_blank">CLICK HERE </a> to purchase tickets by November 6 </strong><span style="background-color:rgb(255\, 255\, 255)\; color:rgb(51\, 51\, 51)\; font-family:arial\; font-size:14px">.</span>
LOCATION:Richlin Balltoom 1700 Van Bibber Road Edgewood
UID:e.2776.9569
SEQUENCE:3
DTSTAMP:20260424T221305Z
URL:https://business.harfordchamber.org/events/details/army-alliance-annual-breakfast-meeting-the-economics-of-a-defense-community-9569
END:VEVENT

END:VCALENDAR
