BEGIN:VCALENDAR
VERSION:2.0
PRODID:-//ChamberMaster//Event Calendar 2.0//EN
METHOD:PUBLISH
X-PUBLISHED-TTL:P3D
REFRESH-INTERVAL:P3D
CALSCALE:GREGORIAN
BEGIN:VEVENT
DTSTART:20190822T150000Z
DTEND:20190822T170000Z
X-MICROSOFT-CDO-ALLDAYEVENT:FALSE
SUMMARY:August Membership Luncheon: Tapping Into Tomorrow's Talent Communities
DESCRIPTION:Join us for our August Membership Luncheon sponsored by Towson University in Northeastern Maryland! All attendees will receive a complementary Aberdeen Ironbirds baseball hat and one ticket voucher to attend a game of their choice.\n\n\n\nMenu Includes:\n\nSlow Cooked Pork Shoulder\n\nFlour or Corn Tortilla\, Queso Fresco\, Chipotle Corn Salsa\, Jalapeno Crema\n\nHoney Lime Chicken Breast \n\n            Grilled\, lime marinated chicken breast\, finished with a sweet and savory honey glaze\n\nKale and Farro Salad\n\n            Baby kale\, farro\, green onion\, and manchego cheese\, tossed in a garlic lemon vinaigrette\n\nSummer Vegetable Risotto\n\n            Arborio rice\, seared with garlic and simmered in white wine.  Then tossed with fresh summer corn\, bell peppers\, onion\, basil and parmesan cheese\n\nGrilled Peaches with Vanilla Mascarpone Cheese\n\n            Sliced and grilled peaches\, simply served with a dollop of vanilla infused mascarpone cheese
X-ALT-DESC;FMTTYPE=text/html:Join us for our August Membership Luncheon sponsored by Towson University in Northeastern Maryland! All attendees will receive a complementary Aberdeen Ironbirds baseball hat and one ticket voucher to attend a game of their choice.<br />\n<br />\nMenu Includes:<br />\n<span style="font-size:12px\;"><strong><span style="font-family:cambria\,serif\;">Slow Cooked Pork Shoulder</span></strong><br />\n<em><span style="font-family:cambria\,serif\;">Flour or Corn Tortilla\, Queso Fresco\, Chipotle Corn Salsa\, Jalapeno Crema</span></em><br />\n<strong><span style="font-family:cambria\,serif\;">Honey Lime Chicken Breast&nbsp\;</span></strong><br />\n&nbsp\;&nbsp\;&nbsp\;&nbsp\;&nbsp\;&nbsp\;&nbsp\;&nbsp\;&nbsp\;&nbsp\;&nbsp\;&nbsp\;<em><span style="font-family:cambria\,serif\;">Grilled\, lime marinated chicken breast\, finished with a sweet and savory honey glaze</span></em><br />\n<strong><span style="font-family:cambria\,serif\;">Kale and Farro Salad</span></strong><br />\n&nbsp\;&nbsp\;&nbsp\;&nbsp\;&nbsp\;&nbsp\;&nbsp\;&nbsp\;&nbsp\;&nbsp\;&nbsp\;&nbsp\;<em><span style="font-family:cambria\,serif\;">Baby kale\, farro\, green onion\, and manchego cheese\, tossed in a garlic lemon vinaigrette</span></em><br />\n<strong><span style="font-family:cambria\,serif\;">Summer Vegetable Risotto</span></strong><br />\n<em><span style="font-family:cambria\,serif\;">&nbsp\;&nbsp\;&nbsp\;&nbsp\;&nbsp\;&nbsp\;&nbsp\;&nbsp\;&nbsp\;&nbsp\;&nbsp\;&nbsp\;Arborio rice\, seared with garlic and simmered in white wine.&nbsp\;&nbsp\;Then tossed with fresh summer corn\, bell peppers\, onion\, basil and parmesan cheese</span></em><br />\n<strong><span style="font-family:cambria\,serif\;">Grilled Peaches with Vanilla Mascarpone Cheese</span></strong><br />\n<em><span style="font-family:cambria\,serif\;">&nbsp\;&nbsp\;&nbsp\;&nbsp\;&nbsp\;&nbsp\;&nbsp\;&nbsp\;&nbsp\;&nbsp\;&nbsp\;&nbsp\;Sliced and grilled peaches\, simply served with a dollop of vanilla infused mascarpone cheese</span></em></span>
LOCATION:Leidos Field at Ripken Stadium 873 Long Drive Aberdeen\, MD 21001
UID:e.2776.8457
SEQUENCE:3
DTSTAMP:20260426T012152Z
URL:https://business.harfordchamber.org/events/details/august-membership-luncheon-tapping-into-tomorrow-s-talent-communities-8457
END:VEVENT

END:VCALENDAR
