BEGIN:VCALENDAR
VERSION:2.0
PRODID:-//ChamberMaster//Event Calendar 2.0//EN
METHOD:PUBLISH
X-PUBLISHED-TTL:P3D
REFRESH-INTERVAL:P3D
CALSCALE:GREGORIAN
BEGIN:VEVENT
DTSTART:20191102T140000Z
DTEND:20191102T190000Z
X-MICROSOFT-CDO-ALLDAYEVENT:FALSE
SUMMARY:Authors & Artists Holiday Sale
DESCRIPTION:The Authors & Artists Holiday Sale returns to Bel Air on Saturday November 2\, from 10 AM to 3PM at the Bel Air Armory\, 37 N. Main Street. This free & fun event features over 40 local authors and artists. Come meet them and find some unique gifts for family\, friends\, or yourself. More info available at http://www.belairartsandentertainment.org/authors-and-artists-event-application/ or www.facebook.com/AuthorsandArtists2019 .
X-ALT-DESC;FMTTYPE=text/html:The Authors &amp\; Artists Holiday Sale returns to Bel Air on Saturday November 2\, from 10 AM to 3PM at the Bel Air Armory\, 37 N. Main Street. This free &amp\; fun event features over 40 local authors and artists. Come meet them and find some unique gifts for family\, friends\, or yourself. More info available at http://www.belairartsandentertainment.org/authors-and-artists-event-application/ or www.facebook.com/AuthorsandArtists2019 .
LOCATION:Bel Air Armory\, 37 N. Main St.\, Bel Air\, MD 21014
UID:e.2776.8505
SEQUENCE:3
DTSTAMP:20260424T221055Z
URL:https://business.harfordchamber.org/events/details/authors-artists-holiday-sale-8505
END:VEVENT

END:VCALENDAR
