BEGIN:VCALENDAR
VERSION:2.0
PRODID:-//ChamberMaster//Event Calendar 2.0//EN
METHOD:PUBLISH
X-PUBLISHED-TTL:P3D
REFRESH-INTERVAL:P3D
CALSCALE:GREGORIAN
BEGIN:VEVENT
DTSTART;VALUE=DATE:20190917
DTEND;VALUE=DATE:20191005
TRANSP:TRANSPARENT
X-MICROSOFT-CDO-ALLDAYEVENT:TRUE
SUMMARY:Avenge Hunger Month
DESCRIPTION:Armstrong has kicked off the second annual Avenge Hunger Month food drive to provide food and other resources to community food pantries. As part of their ongoing Breaking Bread initiative\, donations can be dropped off at local Armstrong stores throughout the month of September. The timing for Avenge Hunger Month is deliberate\; September is National Hunger Action Month and the need for food is higher during the last quarter of the year. Donations will benefit Mason-Dixon Community Services and Ray of Hope Mission Center.
X-ALT-DESC;FMTTYPE=text/html:<span style="color:black\; font-family:calibri\,sans-serif\; font-size:12pt">Armstrong has kicked off the second annual Avenge Hunger Month food drive to provide food and other resources to community food pantries. As part of their ongoing Breaking Bread initiative\, donations can be dropped off at local Armstrong stores throughout the month of September. The timing for Avenge Hunger Month is deliberate\; September is National Hunger Action Month and the need for food is higher during the last quarter of the year. </span>Donations will benefit Mason-Dixon Community Services and Ray of Hope Mission Center.
LOCATION:Armstrong\, 2235 Conowingo Road\, Bel Air\, MD 21015
UID:e.2776.8537
SEQUENCE:3
DTSTAMP:20260425T000655Z
URL:https://business.harfordchamber.org/events/details/avenge-hunger-month-8537
END:VEVENT

END:VCALENDAR
