BEGIN:VCALENDAR
VERSION:2.0
PRODID:-//ChamberMaster//Event Calendar 2.0//EN
METHOD:PUBLISH
X-PUBLISHED-TTL:P3D
REFRESH-INTERVAL:P3D
CALSCALE:GREGORIAN
BEGIN:VEVENT
DTSTART:20251016T223000Z
DTEND:20251017T000000Z
X-MICROSOFT-CDO-ALLDAYEVENT:FALSE
SUMMARY:Birds of Harford County and Beyond
DESCRIPTION:Harford County Public Library presents Birds of Harford County and Beyond October 16 from 6:30 to 8 p.m. at the Joppa Library\, 655 Towne Center Drive. Joppa resident Greg Futral will showcase his local bird photography\, inviting participants to discover beauty in the ordinary. Each person attending must register prior to the event at https://programs.hcplonline.org/event/13957287. The program is open to those in grades 9-12 and adults\, and is supported by the Joppa Friends of HCPL.
X-ALT-DESC;FMTTYPE=text/html:<span style="font-family:times new roman\,serif"><span style="font-size:14.0pt">Harford County Public Library presents Birds of Harford County and Beyond October 16 from 6:30 to 8 p.m. at the Joppa Library\, 655 Towne Center Drive. Joppa resident Greg Futral will showcase his local bird photography\, inviting participants to discover beauty in the ordinary. Each person attending must register prior to the event at </span></span><a href="https://programs.hcplonline.org/event/13957287"><span style="font-family:times new roman\,serif"><span style="font-size:14.0pt">https://programs.hcplonline.org/event/13957287</span></span></a><span style="font-family:times new roman\,serif"><span style="font-size:14.0pt">. The program is open to those in grades 9-12 and adults\, and is supported by the Joppa Friends of HCPL.</span></span>
LOCATION:Joppa Library 655 Towne Center Drive Joppa
UID:e.2776.16071
SEQUENCE:3
DTSTAMP:20260423T091657Z
URL:https://business.harfordchamber.org/events/details/birds-of-harford-county-and-beyond-16071
END:VEVENT

END:VCALENDAR
