BEGIN:VCALENDAR
VERSION:2.0
PRODID:-//ChamberMaster//Event Calendar 2.0//EN
METHOD:PUBLISH
X-PUBLISHED-TTL:P3D
REFRESH-INTERVAL:P3D
CALSCALE:GREGORIAN
BEGIN:VEVENT
DTSTART:20190906T220000Z
DTEND:20190907T020000Z
X-MICROSOFT-CDO-ALLDAYEVENT:FALSE
SUMMARY:Boots and Bow Ties 30th Anniversary Birthday Bash
DESCRIPTION:Join us for an unforgettable evening at Falling Branch Brewery for our 30th Birthday Bash Celebration! Enjoy craft beer\, wine bar\, bourbon bar\, delicious country fare provided by Laurrapin and Pairings Bistro\, live music by 19th Street Band and a 30th birthday celebration champagne toast and cake. The VIP event from 5pm to 6pm includes a special "Bow Tie Bill" blonde brew\, named after our founder\, Bill White\, served in a take home Belgian style event glass paired with a seasonal treat. VIP tickets also include preferred parking and reserved seating at the event.
X-ALT-DESC;FMTTYPE=text/html:Join us for an unforgettable evening at Falling Branch Brewery for our 30th Birthday Bash Celebration! Enjoy craft beer\, wine bar\, bourbon bar\, delicious country fare provided by Laurrapin and Pairings Bistro\, live music by 19th Street Band and a 30th birthday celebration champagne toast and cake. The VIP event from 5pm to 6pm includes a special &ldquo\;Bow Tie Bill&rdquo\; blonde brew\, named after our founder\, Bill White\, served in a take home Belgian style event glass paired with a seasonal treat. VIP tickets also include preferred parking and reserved seating at the event.
LOCATION:Falling Branch Brewery\, 825 Highland Rd\, Street\, MD 21154
UID:e.2776.8466
SEQUENCE:3
DTSTAMP:20260426T012127Z
URL:https://business.harfordchamber.org/events/details/boots-and-bow-ties-30th-anniversary-birthday-bash-8466
END:VEVENT

END:VCALENDAR
