BEGIN:VCALENDAR
VERSION:2.0
PRODID:-//ChamberMaster//Event Calendar 2.0//EN
METHOD:PUBLISH
X-PUBLISHED-TTL:P3D
REFRESH-INTERVAL:P3D
CALSCALE:GREGORIAN
BEGIN:VEVENT
DTSTART:20190613T113000Z
DTEND:20190613T180000Z
X-MICROSOFT-CDO-ALLDAYEVENT:FALSE
SUMMARY:Brandon Tolson Foundation 1st Annual Charitable Golf Outing
DESCRIPTION:Join us for the Brandon Tolson Foundation's 1st Annual Charitable Golf Outing.  Win great prizes \n\n	$10K Hole-in-one\n	$5K putting contest\n	$1K within 1' of hole\n\nPlus other great prizes and giveaways.  \n\n\n\nThe Brandon Tolson Foundation provides support and assistance to families who tragically lose a child.  Come out and join us for a fun day of golf to support this great cause.
X-ALT-DESC;FMTTYPE=text/html:Join us for the Brandon Tolson Foundation&#39\;s 1st Annual Charitable Golf Outing.&nbsp\; Win great prizes&nbsp\;\n<ul>\n	<li>$10K Hole-in-one</li>\n	<li>$5K putting contest</li>\n	<li>$1K within 1&#39\; of hole</li>\n</ul>\nPlus other great prizes and giveaways. &nbsp\;<br />\n<br />\nThe Brandon Tolson Foundation provides support and assistance to families who tragically lose a child.&nbsp\; Come out and join us for a fun day of golf to support this great cause.&nbsp\;
LOCATION:Winters Run Golf Club 1000 N. Tolgate Road Bel Air\, MD 21014
UID:e.2776.6940
SEQUENCE:3
DTSTAMP:20260426T043728Z
URL:https://business.harfordchamber.org/events/details/brandon-tolson-foundation-1st-annual-charitable-golf-outing-6940
END:VEVENT

END:VCALENDAR
