BEGIN:VCALENDAR
VERSION:2.0
PRODID:-//ChamberMaster//Event Calendar 2.0//EN
METHOD:PUBLISH
X-PUBLISHED-TTL:P3D
REFRESH-INTERVAL:P3D
CALSCALE:GREGORIAN
BEGIN:VEVENT
DTSTART;VALUE=DATE:20200210
DTEND;VALUE=DATE:20200211
TRANSP:TRANSPARENT
X-MICROSOFT-CDO-ALLDAYEVENT:TRUE
SUMMARY:Brandon Tolson Foundation - Funds For Friends At The Greene Turtle
DESCRIPTION:Come out for food\, fun & fundraising to help support the Brandon Tolson Foundation.  Join us at the Greene Turtle at Harford Mall on Monday\, February 10th and present the attached flyer to your server.  BTF receives 20% of your order.
X-ALT-DESC;FMTTYPE=text/html:Come out for food\, fun &amp\; fundraising to help support the Brandon Tolson Foundation.&nbsp\; Join us at the Greene Turtle at Harford Mall on Monday\, February 10th and present the attached flyer to your server.&nbsp\; BTF receives 20% of your order. &nbsp\;
LOCATION:The Greene Turtle Sports Bar & Grille Harford Mall 696 Bel Air Road Bel Air\, MD 21014
UID:e.2776.11654
SEQUENCE:3
DTSTAMP:20260424T220045Z
URL:https://business.harfordchamber.org/events/details/brandon-tolson-foundation-funds-for-friends-at-the-greene-turtle-11654
END:VEVENT

END:VCALENDAR
