BEGIN:VCALENDAR
VERSION:2.0
PRODID:-//ChamberMaster//Event Calendar 2.0//EN
METHOD:PUBLISH
X-PUBLISHED-TTL:P3D
REFRESH-INTERVAL:P3D
CALSCALE:GREGORIAN
BEGIN:VEVENT
DTSTART:20250430T114500Z
DTEND:20250430T130000Z
X-MICROSOFT-CDO-ALLDAYEVENT:FALSE
SUMMARY:Breakfast Marketing Seminar with The Baltimore Sun
DESCRIPTION:What to Expect:\n\n\n\nBest Practices: Learn how to refine your marketing approach and strengthen brand engagement.\n\nProven Techniques: Discover actionable strategies in print\, digital\, social\, and content marketing that deliver results.\n\nTrends to Watch: Stay ahead with the latest innovations in consumer behavior\, AI integration\, and data-driven decision making.\n\n\n\nWhether you're leading a marketing team\, building your brand\, or exploring fresh strategies\, this seminar is your opportunity to gain the tools and connections you need to grow.
X-ALT-DESC;FMTTYPE=text/html:What to Expect:<br />\n<br />\nBest Practices: Learn how to refine your marketing approach and strengthen brand engagement.<br />\nProven Techniques: Discover actionable strategies in print\, digital\, social\, and content marketing that deliver results.<br />\nTrends to Watch: Stay ahead with the latest innovations in consumer behavior\, AI integration\, and data-driven decision making.<br />\n<br />\nWhether you&#39\;re leading a marketing team\, building your brand\, or exploring fresh strategies\, this seminar is your opportunity to gain the tools and connections you need to grow.
LOCATION:The Hilton Garden Inn White Marsh: 5015 Campbell Blvd\, Baltimore\, MD 21236
UID:e.2776.15716
SEQUENCE:3
DTSTAMP:20260421T223154Z
URL:https://business.harfordchamber.org/events/details/breakfast-marketing-seminar-with-the-baltimore-sun-15716
END:VEVENT

END:VCALENDAR
