BEGIN:VCALENDAR
VERSION:2.0
PRODID:-//ChamberMaster//Event Calendar 2.0//EN
METHOD:PUBLISH
X-PUBLISHED-TTL:P3D
REFRESH-INTERVAL:P3D
CALSCALE:GREGORIAN
BEGIN:VEVENT
DTSTART:20191114T133000Z
DTEND:20191114T190000Z
X-MICROSOFT-CDO-ALLDAYEVENT:FALSE
SUMMARY:Business Fundamentals Bootcamp - “Lessons for Helping You Grow Your Business”
DESCRIPTION:We invite you to join us for the Business Fundamentals Bootcamp presented by Supporting Strategies coming up November 14th. Be sure to reserve your tickets now for this highly popular event!\n\nWhat: Business Fundamentals Bootcamp\n\nTheme: Lessons for Helping You Grow Your Business\n\nWho: Over a dozen expert speakers on marketing\, finance\, law\, human resources and more\n\nWhere: Loyola Graduate Center   Timonium Campus in Lutherville-Timonium\, MD\n\nWhen: November 14\, 2019\n\nBefore you hear from our all-star cast of speakers\, you'll have time to network with them as well as other local business leaders.\n\nRegister HERE \n\nSponsorship Opportunities Available - Click the link below to download the flyer.\n\nSponsorship flyer\n\nFor more on our Bootcamp Series\, click here. I look forward to seeing you there!\n\n\n\nJeff Kordela\n\nManaging Director\n\n\n\n\n#BFBootcamp #smallbiz
X-ALT-DESC;FMTTYPE=text/html:<p><span style="color:rgb(68\, 68\, 68)\; font-family:arial\,sans-serif\; font-size:11.5pt">We invite you to join us for the&nbsp\;</span><span style="color:rgb(0\, 92\, 168)\; font-family:arial\,sans-serif\; font-size:11.5pt"><a href="https://www.supportingstrategies.com/e2t/c/*W8jXX1k8KpMQHN7ZclBR2Rl5D0/*W7h1cSJ9fyrDMN41cVcpS-M6t0/5/f18dQhb0SbTP8YHtvCW8ClDrw2qwv31N32GlHwKnmMkVf59N-57mvFqW3BJFQw8Vm6N7W8hy4WP9dtlFCW6WRFlz5Z8ktvW8Z0zjv6YHzwYW9gsWqs5mR-_TM5Gr_vL-Yy5N7JtTn0B_KtSW2fZRQV7m1WQBW7TMxMM83HWHJW1kHtff3jL1hnW5Hsr_p5G2WvyV656Qc2StQ5cW6F8g0s7-KJrNW5tg24_7WgB6RW1tBsML1txG9NW6GsfdK8XNh8_W7J_KSY20RRnPW1V-KQs6D0fwxW6BvSZs1BrbCgW1Jky0R2KlpNJW1DpxF64-GTvmW21CwBH4nHG7QW1-F9hd1LkpFdW1ZtfR71TYZxSW54HZWy1yP7sBW1DnTlD50bC74W8P84Zv45jMWGW2QyQ4M2H589rF5HFpSbGNZ1N4DgGjFrX3l1W6VzNc65m6_dfN69Wh8YYnPJZN95RRNGYn-VhW69_fDL2yYHwbW30Hpx612J8cnW3XBmRW8ZpC7HW4L467s3c6-8xW42tMmP7zvVwyW2XJ20C3QzSg8MQN_Tj_ZK05f3Dlwj-04" rel="noopener noreferrer" style="margin: 0px\; padding: 0px\; border: 0px\; font: inherit\; vertical-align: baseline\;" target="_blank"><span style="color:rgb(0\, 92\, 168)">Business Fundamentals Bootcamp</span></a></span><span style="color:rgb(68\, 68\, 68)\; font-family:arial\,sans-serif\; font-size:11.5pt">&nbsp\;presented by Supporting Strategies coming up<span style="color:inherit">&nbsp\;November 14<sup>th</sup>.&nbsp\;</span>Be sure to reserve your tickets now for this highly popular event!</span></p>\n\n<p><strong><span style="color:rgb(68\, 68\, 68)\; font-family:arial\,sans-serif\; font-size:11.5pt">What:</span></strong><span style="color:rgb(68\, 68\, 68)\; font-family:arial\,sans-serif\; font-size:11.5pt">&nbsp\;Business Fundamentals Bootcamp<br />\n<strong><span style="color:inherit\; font-size:inherit">Theme:</span></strong>&nbsp\;Lessons for Helping You Grow Your Business<br />\n<strong><span style="color:inherit\; font-size:inherit">Who:</span></strong>&nbsp\;Over a dozen expert speakers on marketing\, finance\, law\, human resources and more<br />\n<strong><span style="color:inherit\; font-size:inherit">Where:</span></strong>&nbsp\;Loyola Graduate Center &ndash\; Timonium Campus in Lutherville-Timonium\, MD<br />\n<strong><span style="color:inherit\; font-size:inherit">Whe<span style="color:inherit">n:</span></span></strong><span style="color:inherit">&nbsp\;November 14\, 2019</span></span></p>\n\n<p><span style="color:rgb(68\, 68\, 68)\; font-family:arial\,sans-serif\; font-size:11.5pt">Before you hear fr</span><span style="color:rgb(68\, 68\, 68)\; font-family:arial\,sans-serif\; font-size:11.5pt">om our all-star cast of speakers\, you&#39\;ll have time to network with them as well as other local business leaders.</span></p>\n\n<p><strong><a href="https://www.supportingstrategies.com/bootcamp-cmd19"><span style="color:rgb(0\, 92\, 168)\; font-family:arial\,sans-serif\; font-size:11.5pt"><span style="color:rgb(0\, 92\, 168)">Register HERE</span></span></a></strong><span style="color:rgb(68\, 68\, 68)\; font-family:arial\,sans-serif\; font-size:11.5pt">&nbsp\;</span></p>\n\n<p><span style="color:rgb(0\, 92\, 168)\; font-family:sans-serif\; font-size:15px"><span style="color:rgb(68\, 68\, 68)"><strong>Sponsorship Opportunities Available</strong>&nbsp\;- Click the link below to download the flyer.</span></span><br />\n<a href="https://www.supportingstrategies.com/e2t/c/*MHTW9ktsW88W1T-kK61v72v00/*W91j1yD3fh-dZW8tB5J61YRBQh0/5/f18dQhb0S3j46SPSd_V1xBLK2qy8x2W1gBd0V60Fn_5W5SsCDB2N9CC1W6d1cly1ZHSJzW4wzS6r2HXnwBW5fXgPy332f2jN5L_PLvSrP2YV2RpRD8YhS60VSHSxX2hjHF3W95dR3f1Fhh95W6q9P0k5_f-cgVLJknY5QXfq5W6kTV_46Jqk3jW689P9g6ccl-yW1tzkT_8K9Bj3W20_M4-1ZHL6WW8Sl36B33NNLGVQtvfP327nzjW11Dk1Q8TR_WjW56Ql-x4NYpKxN4q6Kj5Ns0FNW758q4c5sk8KvW3W4mGF2Kc_XnN1S05lvJz8hBW8QkLH768x3jyW9l8bS_250jRbW1zkBMk48qR8FW50Dx3V3l1zMQW5BZlVX8nwf7tW8JJQgy6BphRrW8T6Bl13NF0BlMQ5jPJXmTH-W60KRq52DFYY-W7GccY04LkMbpW7VVR863f2kqlW2jcdlF81FV_fW5QyCfd2TRvYxW8-9dTw1_DBtNW3dHt8q854TNQV-KNKB673LwzW4YQ1q_6gtDWvW6v0fMN5_wqjkW7_FBhP50ynwQW292yPz4SYZ7WN2KxMtBWWNJlW1kTzht6_NGJmW8Jgv9r8MjcZDW8s-gKC7wXTkNW7xYJdG1T4qBSW70R32q2gJWFrN4kThqB3VFK-f370mDg03" rel="noopener noreferrer" style="color: rgb(0\, 92\, 168)\; margin: 0px\; padding: 0px\; border: 0px\; font-variant-numeric: inherit\; font-variant-east-asian: inherit\; font-stretch: inherit\; font-size: 15px\; line-height: inherit\; font-family: sans-serif\; vertical-align: baseline\;" target="_blank">Sponsorship flyer</a></p>\n\n<p><span style="color:rgb(68\, 68\, 68)\; font-family:arial\,sans-serif\; font-size:11.5pt">For more on our Bootcamp Series\,&nbsp\;</span><span style="color:rgb(0\, 92\, 168)\; font-family:arial\,sans-serif\; font-size:11.5pt"><a href="https://www.supportingstrategies.com/e2t/c/*W8jXX1k8KpMQHN7ZclBR2Rl5D0/*W1thXF36B6h6rW766LC72FxfNX0/5/f18dQhb0SbTH8XJ8K-W8ClDrw2qwv31N32GlHwKnmMkMf5c-0XD6prW7cmS1s8pCQ6vW7c-jY995RRpQW4sypQL2ybP3BW8xXfRk4vgKM1W97Snsk1nz56kVcNnNL6PVrm0W3C8bwH6ltYQDW6Wkw0L6dyxJQW61NdNq2RQjvJW2-J-SL2z_tPYN41Q2Wg-zgqsW41TlcR3Tx3JbW5Tc3X-3s1XjFW51FZ6B817-BGW94q7cq6VKJl2W1hC_8g5lppHtVsCj4P1ksZF2W19GnYQ19GJNCW8t7NXY8hGNYdW4JVQZx8V3qkTW6dtMZM8TqtZ2N66m-tXKhyc2W5_xBSb2sXqRhN6rH2gKD2rk1W5rkNQt6zG-xHW2YTfbB8LG_q-W76SQyC1W7qK8W2wpwYj3qY36qW2lW6Mb4Ft14TN45Ly2MkwRN4W8qYyRC2MCbgSW4gqLGz2Lz_MKW2JDLXl2RvYX4W7qWC0r3xxDzQVJhvMS8PfmjpW8r5Bxc1RLBdTW7GQBlp8qJTYNW1l0dSb7X65DSW4L1Mmr4JXQH_V1ghRR4Z1-lx103" rel="noopener noreferrer" style="margin: 0px\; padding: 0px\; border: 0px\; font: inherit\; vertical-align: baseline\;" target="_blank"><span style="color:rgb(0\, 92\, 168)">click here</span></a></span><span style="color:rgb(68\, 68\, 68)\; font-family:arial\,sans-serif\; font-size:11.5pt">. I look forward to seeing you there!</span><br />\n<br />\n<span style="color:rgb(68\, 68\, 68)\; font-family:arial\,sans-serif\; font-size:11.5pt">Jeff Kordela</span></p>\n\n<p><span style="color:rgb(68\, 68\, 68)\; font-family:arial\,sans-serif\; font-size:11.5pt"><span style="color:inherit">Managing Director</span></span></p>\n<br />\n<br />\n<span style="color:rgb(0\, 92\, 168)\; font-family:sans-serif\; font-size:15px"><span style="color:rgb(68\, 68\, 68)"><span style="color:inherit">#BFBo</span>otcamp #smallbiz</span></span>
LOCATION:Loyola Graduate Center Timonium Campus\, Lutherville-Timonium\, MD
UID:e.2776.8504
SEQUENCE:3
DTSTAMP:20260424T221245Z
URL:https://business.harfordchamber.org/events/details/business-fundamentals-bootcamp-lessons-for-helping-you-grow-your-business-11-14-2019-8504
END:VEVENT

END:VCALENDAR
