BEGIN:VCALENDAR
VERSION:2.0
PRODID:-//ChamberMaster//Event Calendar 2.0//EN
METHOD:PUBLISH
X-PUBLISHED-TTL:P3D
REFRESH-INTERVAL:P3D
CALSCALE:GREGORIAN
BEGIN:VEVENT
DTSTART:20191203T130000Z
DTEND:20191203T150000Z
X-MICROSOFT-CDO-ALLDAYEVENT:FALSE
SUMMARY:Business Growth Workshop
DESCRIPTION:This workshop is designed to:\n\n\n	Slow down and reflect on your business\n	Better manage your priorities\n	Develop a strategic plan\n	Generate an action plan to increase revenue\n	Learn ways to dramatically grow your business \n	It's a 2020 Focus for a strong start to the year!
X-ALT-DESC;FMTTYPE=text/html:<p><strong>This workshop is designed to:</strong></p>\n\n<ul>\n	<li>Slow down and reflect on your business</li>\n	<li>Better manage your priorities</li>\n	<li>Develop a strategic plan</li>\n	<li>Generate an action plan to increase revenue</li>\n	<li>Learn ways to dramatically grow your business&nbsp\;</li>\n	<li>It&rsquo\;s a 2020 Focus for a strong start to the year!</li>\n</ul>\n
LOCATION:Location: Harford Chamber of Commerce 108 S. Bond Street Bel Air\, MD 21014
UID:e.2776.10608
SEQUENCE:3
DTSTAMP:20260424T235503Z
URL:https://business.harfordchamber.org/events/details/business-growth-workshop-12-03-2019-10608
END:VEVENT

END:VCALENDAR
