BEGIN:VCALENDAR
VERSION:2.0
PRODID:-//ChamberMaster//Event Calendar 2.0//EN
METHOD:PUBLISH
X-PUBLISHED-TTL:P3D
REFRESH-INTERVAL:P3D
CALSCALE:GREGORIAN
BEGIN:VEVENT
DTSTART:20190917T120000Z
DTEND:20190917T133000Z
X-MICROSOFT-CDO-ALLDAYEVENT:FALSE
SUMMARY:Business Writing that Works
DESCRIPTION:Sentenced to a writing workshop? Not in this seminar! Spend the 90-minute period honing your business writing skills by implementing some effective tips. Learn how to get to the point so that you get what you want. Strong writing skills can cut your writing time in half and minimize reading time for the recipient. You'll participate in hands-on\, relevant writing activities and lively conversation. Bring your laptop\, tablet\, or red pen\, but leave your texting language at the door! Instructor: Lisa Baldino\, president\, Turn of Phrase LLC and regular contributor to I95 Business Magazine and the Baltimore Sun Special Sections.
X-ALT-DESC;FMTTYPE=text/html:<span style="font-size:14px\;"><span style="font-family:arial\;"><span style="color: rgb(0\, 0\, 0)\;">Sentenced to a writing workshop? Not in this seminar! Spend the 90-minute period honing your business writing skills by implementing some effective tips. Learn how to get to the point so that you get what you want. Strong writing skills can cut your writing time in half and minimize reading time for the recipient. You&rsquo\;ll participate in hands-on\, relevant writing activities and lively conversation. Bring your laptop\, tablet\, or red pen\, but leave your texting language at the door! Instructor: Lisa Baldino\, president\, Turn of Phrase LLC and regular contributor to I95 Business Magazine and the Baltimore Sun Special Sections.</span></span></span>
LOCATION:Harford Community College Edgewood Hall Conference Center\, Room 132 Parking in Lot E off of Thomas Run Rd Entrance #3
UID:e.2776.8509
SEQUENCE:3
DTSTAMP:20260425T233930Z
URL:https://business.harfordchamber.org/events/details/business-writing-that-works-8509
END:VEVENT

END:VCALENDAR
