BEGIN:VCALENDAR
VERSION:2.0
PRODID:-//ChamberMaster//Event Calendar 2.0//EN
METHOD:PUBLISH
X-PUBLISHED-TTL:P3D
REFRESH-INTERVAL:P3D
CALSCALE:GREGORIAN
BEGIN:VEVENT
DTSTART:20190911T183000Z
DTEND:20190911T200000Z
X-MICROSOFT-CDO-ALLDAYEVENT:FALSE
SUMMARY:Cafe Connections @ Panera ~ How to Cultivate a Success Mentality
DESCRIPTION:What to Expect: A friendly gathering of business owners\, entrepreneurs\, and sales professionals who want to hone their skills and foster meaningful relationships. Business Coach Jory Fisher will lead a discussion at each gathering.\n\n\n\nWe market our events to several groups\; the RSVPs here do not reflect the total expected. If there is a waiting list\, RSVP to join the list. We may be able to open up spaces closer to the event date and time. You will be alerted automatically if you are on the list.\n\n\n\nSeptember Topic: "How to Cultivate a Success Mentality"\n\n\n\nWhat to Bring: (suggested) Biz Cards\n\n\n\nWhat to Prepare: A brief introduction of who you are and how you serve others through your work.\n\n\n\nHow to RSVP: If you're not already a member\, please join the Baltimore Business Success Club Meetup (no charge). Then you can RSVP separately for each event.\n\n\n\nHow to Find Us: We'll gather in the back of Panera Bread at the Festival
X-ALT-DESC;FMTTYPE=text/html:<span style="background-color:rgb(246\, 247\, 248)\; color:rgb(33\, 33\, 33)\; font-family:graphik meetup\,-apple-system\,blinkmacsystemfont\,roboto\,helvetica\,arial\,sans-serif\; font-size:16px"><strong>What to Expect:</strong> A friendly gathering of business owners\, entrepreneurs\, and sales professionals who want to hone their skills and foster meaningful relationships. Business Coach Jory Fisher will lead a discussion at each gathering.</span><br />\n<br />\n<span style="background-color:rgb(246\, 247\, 248)\; color:rgb(33\, 33\, 33)\; font-family:graphik meetup\,-apple-system\,blinkmacsystemfont\,roboto\,helvetica\,arial\,sans-serif\; font-size:16px">We market our events to several groups\; the RSVPs here do not reflect the total expected. If there is a waiting list\, RSVP to join the list. We may be able to open up spaces closer to the event date and time. You will be alerted automatically if you are on the list.</span><br />\n<br />\n<span style="background-color:rgb(246\, 247\, 248)\; color:rgb(33\, 33\, 33)\; font-family:graphik meetup\,-apple-system\,blinkmacsystemfont\,roboto\,helvetica\,arial\,sans-serif\; font-size:16px"><strong>September Topic:</strong> &quot\;How to Cultivate a Success Mentality&quot\;</span><br />\n<br />\n<span style="background-color:rgb(246\, 247\, 248)\; color:rgb(33\, 33\, 33)\; font-family:graphik meetup\,-apple-system\,blinkmacsystemfont\,roboto\,helvetica\,arial\,sans-serif\; font-size:16px"><strong>What to Bring:</strong> (suggested) Biz Cards</span><br />\n<br />\n<span style="background-color:rgb(246\, 247\, 248)\; color:rgb(33\, 33\, 33)\; font-family:graphik meetup\,-apple-system\,blinkmacsystemfont\,roboto\,helvetica\,arial\,sans-serif\; font-size:16px"><strong>What to Prepare:</strong> A brief introduction of who you are and how you serve others through your work.</span><br />\n<br />\n<span style="background-color:rgb(246\, 247\, 248)\; color:rgb(33\, 33\, 33)\; font-family:graphik meetup\,-apple-system\,blinkmacsystemfont\,roboto\,helvetica\,arial\,sans-serif\; font-size:16px"><strong>How to RSVP:</strong> If you&#39\;re not already a member\, please join the Baltimore Business Success Club Meetup (no charge). Then you can RSVP separately for each event.</span><br />\n<br />\n<span style="background-color:rgb(246\, 247\, 248)\; color:rgb(33\, 33\, 33)\; font-family:graphik meetup\,-apple-system\,blinkmacsystemfont\,roboto\,helvetica\,arial\,sans-serif\; font-size:16px"><strong>How to Find Us:</strong> We&#39\;ll gather in the back of Panera Bread at the Festival</span>
LOCATION:Panera Bread - Festival 5 Bel Air S Pkwy Bel Air\, MD 21015
UID:e.2776.8534
SEQUENCE:3
DTSTAMP:20260425T234846Z
URL:https://business.harfordchamber.org/events/details/cafe-connections-panera-how-to-cultivate-a-success-mentality-8534
END:VEVENT

END:VCALENDAR
