BEGIN:VCALENDAR
VERSION:2.0
PRODID:-//ChamberMaster//Event Calendar 2.0//EN
METHOD:PUBLISH
X-PUBLISHED-TTL:P3D
REFRESH-INTERVAL:P3D
CALSCALE:GREGORIAN
BEGIN:VEVENT
DTSTART:20250610T120000Z
DTEND:20250610T130000Z
X-MICROSOFT-CDO-ALLDAYEVENT:FALSE
SUMMARY:Chamber Connection - Dive into the MIC!
DESCRIPTION:Take a deep dive into the Membership Information Center (MIC) in this orientation for Chamber members! Learn how to set up your business profile\, add events\, deals\, job postings\, and more. We encourage you to set up your MIC log in prior to the event. After registering\, please email Natalie Pixley with your name\, email\, and company name to get started. \n\n\n\nThis orientation is great for new members who want assistance in setting up their account and utilizing their benefits\, or for long-time members looking for a refresher course on MIC best practices. If you are a prospective member\, we encourage you to attend Chamber Connection: A Guide to Membership prior to attending this event.
X-ALT-DESC;FMTTYPE=text/html:<strong><span style="font-size:18px\;">Take a deep dive into the Membership Information Center (MIC) in this orientation for Chamber members! Learn how to set up your business profile\, add events\, deals\, job postings\, and more. We encourage you to set up your MIC log in prior to the event. After registering\, please email Natalie Pixley with your name\, email\, and company name to get started.&nbsp\;<br />\n<br />\nThis orientation is great for new members who want assistance in setting up their account and utilizing their benefits\, or for long-time members looking for a refresher course on MIC best practices. If you are a prospective member\, we encourage you to attend Chamber Connection: A Guide to Membership prior to attending this event.&nbsp\;</span></strong>
LOCATION:This is a virtual event. Please register to receive the Zoom link.
UID:e.2776.15120
SEQUENCE:3
DTSTAMP:20260421T165635Z
URL:https://business.harfordchamber.org/events/details/chamber-connection-dive-into-the-mic-15120
END:VEVENT

END:VCALENDAR
