BEGIN:VCALENDAR
VERSION:2.0
PRODID:-//ChamberMaster//Event Calendar 2.0//EN
METHOD:PUBLISH
X-PUBLISHED-TTL:P3D
REFRESH-INTERVAL:P3D
CALSCALE:GREGORIAN
BEGIN:VEVENT
DTSTART:20190627T203000Z
DTEND:20190627T223000Z
X-MICROSOFT-CDO-ALLDAYEVENT:FALSE
SUMMARY:Chamber Mixer with the Cecil County Chamber of Commerce
DESCRIPTION:The Cecil County Chamber of Commerce and the Harford County Chamber of Commerce invite you to join us and meet local businesses from our Chambers\, make connections\, and enjoy delicious food and drink at our annual Chamber Mixer!
X-ALT-DESC;FMTTYPE=text/html:The Cecil County Chamber of Commerce and the Harford County Chamber of Commerce invite you to join us and meet local businesses from our Chambers\, make connections\, and enjoy delicious food and drink at our annual Chamber Mixer!
LOCATION:Hollywood Casino Perryville 1201 Chesapeake Overlook Parkway Perryville\, MD 21903
UID:e.2776.8412
SEQUENCE:3
DTSTAMP:20260426T043832Z
URL:https://business.harfordchamber.org/events/details/chamber-mixer-with-the-cecil-county-chamber-of-commerce-8412
END:VEVENT

END:VCALENDAR
