BEGIN:VCALENDAR
VERSION:2.0
PRODID:-//ChamberMaster//Event Calendar 2.0//EN
METHOD:PUBLISH
X-PUBLISHED-TTL:P3D
REFRESH-INTERVAL:P3D
CALSCALE:GREGORIAN
BEGIN:VEVENT
DTSTART;VALUE=DATE:20190815
DTEND;VALUE=DATE:20190816
TRANSP:TRANSPARENT
X-MICROSOFT-CDO-ALLDAYEVENT:TRUE
SUMMARY:Cheers & Beers to 25 Years!
DESCRIPTION:Jordan turns 25! Join us at Black Eyed Suzie's to celebrate and raise money to fight Cystic Fibrosis. Proceeds from the bash benefit Cystic Fibrosis!
X-ALT-DESC;FMTTYPE=text/html:Jordan turns 25! Join us at Black Eyed Suzie&#39\;s to celebrate and raise money to fight Cystic Fibrosis. Proceeds from the bash benefit Cystic Fibrosis!
LOCATION:Black Eyed Suzie's 119 S. Main Street Bel Air\, Maryland 21014
UID:e.2776.8499
SEQUENCE:3
DTSTAMP:20260426T012151Z
URL:https://business.harfordchamber.org/events/details/cheers-beers-to-25-years-8499
END:VEVENT

END:VCALENDAR
