BEGIN:VCALENDAR
VERSION:2.0
PRODID:-//ChamberMaster//Event Calendar 2.0//EN
METHOD:PUBLISH
X-PUBLISHED-TTL:P3D
REFRESH-INTERVAL:P3D
CALSCALE:GREGORIAN
BEGIN:VEVENT
DTSTART:20191009T210000Z
DTEND:20191010T020000Z
X-MICROSOFT-CDO-ALLDAYEVENT:FALSE
SUMMARY:Chesapeake Cancer Alliance Festival of Trees Kickoff
DESCRIPTION:Bring the kids and family for dinner and a picture with Tropical Santa at the Chesapeake Cancer Alliance Festival of Trees Kickoff!
X-ALT-DESC;FMTTYPE=text/html:Bring the kids and family for dinner and a picture with Tropical Santa at the Chesapeake Cancer Alliance Festival of Trees Kickoff!
LOCATION:MaGerk's Pub 120 South Bond Street Bel Air\, MD 21014
UID:e.2776.8552
SEQUENCE:3
DTSTAMP:20260425T001227Z
URL:https://business.harfordchamber.org/events/details/chesapeake-cancer-alliance-festival-of-trees-kickoff-8552
END:VEVENT

END:VCALENDAR
