BEGIN:VCALENDAR
VERSION:2.0
PRODID:-//ChamberMaster//Event Calendar 2.0//EN
METHOD:PUBLISH
X-PUBLISHED-TTL:P3D
REFRESH-INTERVAL:P3D
CALSCALE:GREGORIAN
BEGIN:VEVENT
DTSTART:20260504T140000Z
DTEND:20260504T210000Z
X-MICROSOFT-CDO-ALLDAYEVENT:FALSE
SUMMARY:Chip in FORE Kids Golf Classic
DESCRIPTION:Harford County Executive Bob Cassilly\, Interim Superintendent of Harford County Public Schools Dr. Dyann Mack\, and Director of Operations Cathi Bendis will serve as Honorary Co-Chairs for the annual Chip in FORE Kids Golf Classic on May 4\, 2026 at Maryland Golf and Country Clubs in Bel Air. The event is proudly presented by HESS Construction\, a longtime supporter of the Education Foundation\, and is a mission-driven day on the greens dedicated to unlocking every child's potential.\n\nThe tournament will bring together business leaders\, educators\, and community champions for a day of golf\, camaraderie\, and purpose. Proceeds from the event will directly support programs that remove barriers to learning for students across Harford County\, including early childhood literacy\, classroom enrichment\, essential school supplies\, and social-emotional supports.
X-ALT-DESC;FMTTYPE=text/html:<span style="font-family:times new roman\,serif"><span style="font-size:12.0pt">Harford County Executive Bob Cassilly\, Interim Superintendent of Harford County Public Schools Dr. Dyann Mack\, and Director of Operations Cathi Bendis will serve as Honorary Co-Chairs for the annual Chip in FORE Kids Golf Classic on May 4\, 2026 at Maryland Golf and Country Clubs in Bel Air. </span></span><span style="font-family:times new roman\,serif"><span style="font-size:12.0pt">The event is proudly presented by HESS Construction\, a longtime supporter of the Education Foundation\, and is a mission-driven day on the greens dedicated to unlocking every child&rsquo\;s potential.</span></span><br />\n<span style="font-family:times new roman\,serif"><span style="font-size:12.0pt">The tournament will bring together business leaders\, educators\, and community champions for a day of golf\, camaraderie\, and purpose. Proceeds from the event will directly support programs that remove barriers to learning for students across Harford County\, including early childhood literacy\, classroom enrichment\, essential school supplies\, and social-emotional supports.</span></span>
LOCATION:Maryland Golf and Country Clubs 1335 E. MacPhail Rd. Bel Air\, MD
UID:e.2776.16215
SEQUENCE:3
DTSTAMP:20260419T150908Z
URL:https://business.harfordchamber.org/events/details/chip-in-fore-kids-golf-classic-16215
END:VEVENT

END:VCALENDAR
