BEGIN:VCALENDAR
VERSION:2.0
PRODID:-//ChamberMaster//Event Calendar 2.0//EN
METHOD:PUBLISH
X-PUBLISHED-TTL:P3D
REFRESH-INTERVAL:P3D
CALSCALE:GREGORIAN
BEGIN:VEVENT
DTSTART:20250716T120000Z
DTEND:20250716T130000Z
X-MICROSOFT-CDO-ALLDAYEVENT:FALSE
SUMMARY:Coffee & Connections
DESCRIPTION:Join us for Coffee & Connections\, your opportunity to network with dozens of local business professionals and receive increased promotion and visibility for your business! \n\n\n\nThis month we have teamed up with the Bel Air Downtown Alliance for even more networking fun! The Bel Air Downtown Alliance is a 501(c)(3) non-profit community development organization whose mission is to mobilize stakeholders to invest in Bel Air's neighborhoods\, economy\, and quality of life. Learn more about the Bel Air Downtown Alliance here!\n\n\n\nThere will be ample time of open networking and connecting with business representatives! Be sure to drop your business card in the bowl to be included on and receive our follow-up email with attendee contact information to continue to grow your network! (Please notify the Chamber team if you do not want your information to be distributed.)
X-ALT-DESC;FMTTYPE=text/html:<span style="color: rgb(0\, 0\, 0)\; font-family: arial\; font-size: 18px\; background-image: initial\; background-position: initial\; background-size: initial\; background-repeat: initial\; background-attachment: initial\; background-origin: initial\; background-clip: initial\;">Join us for Coffee &amp\; Connections\, your opportunity to network with dozens of local business professionals and receive increased promotion and visibility for your business!&nbsp\;</span><br style="color: rgb(0\, 0\, 0)\; font-family: arial\; font-size: 18px\;" />\n<br style="color: rgb(0\, 0\, 0)\; font-family: arial\; font-size: 18px\;" />\n<span style="color: rgb(0\, 0\, 0)\; font-family: arial\; font-size: 18px\; background-image: initial\; background-position: initial\; background-size: initial\; background-repeat: initial\; background-attachment: initial\; background-origin: initial\; background-clip: initial\;">This month we have teamed up with the Bel Air Downtown Alliance for even more networking fun!&nbsp\;</span><span style="font-size:18px\;"><span style="font-family:arial\;"><span style="color: rgb(1\, 30\, 65)\; text-align: justify\;">The Bel Air Downtown Alliance is a 501(c)(3) non-profit community development organization whose mission is to mobilize stakeholders to invest in Bel Air&rsquo\;s neighborhoods\, economy\, and quality of life. Learn more about the Bel Air Downtown Alliance <strong><u><a href="https://downtownbelair.com/">here</a></u></strong>!</span></span></span><br style="color: rgb(0\, 0\, 0)\; font-family: arial\; font-size: 18px\;" />\n<br style="color: rgb(0\, 0\, 0)\; font-family: arial\; font-size: 18px\;" />\n<span style="color: rgb(0\, 0\, 0)\; font-family: arial\; font-size: 18px\;">There will be ample time of open networking and connecting with business representatives! Be sure to drop your business card in the bowl to be included on and receive our follow-up email with attendee contact information to continue to grow your network! (</span><span style="color: rgb(0\, 0\, 0)\; font-family: arial\; font-size: 18px\; background-image: initial\; background-position: initial\; background-size: initial\; background-repeat: initial\; background-attachment: initial\; background-origin: initial\; background-clip: initial\;">Please notify the Chamber team if you do not want your information to be distributed.)</span>\n<p class="x_xmsonormal" style="margin: 0in\; font-size: 11pt\; font-family: Calibri\, sans-serif\; color: rgb(32\, 31\, 30)\;">&nbsp\;</p>\n
LOCATION:Each month is hosted by one of our members! This month is hosted by MedStar! 12 MedStar Blvd\, Bel Air\, MD\, 21015 Parking: Event will be on the 1st floor in the Deborah Moxley-Turner Community Room - Parking is free\, but it is requested that everyone park on the Urgent Care side of the building to ensure we leave the front spots for patients.
UID:e.2776.15717
SEQUENCE:3
DTSTAMP:20260421T145756Z
URL:https://business.harfordchamber.org/events/details/coffee-connections-15717
END:VEVENT

END:VCALENDAR
