BEGIN:VCALENDAR
VERSION:2.0
PRODID:-//ChamberMaster//Event Calendar 2.0//EN
METHOD:PUBLISH
X-PUBLISHED-TTL:P3D
REFRESH-INTERVAL:P3D
CALSCALE:GREGORIAN
BEGIN:VEVENT
DTSTART:20260218T130000Z
DTEND:20260218T140000Z
X-MICROSOFT-CDO-ALLDAYEVENT:FALSE
SUMMARY:Coffee & Connections Hosted at Key Point Health Services
DESCRIPTION:Join us for Coffee & Connections\, your opportunity to network with dozens of local business professionals and receive increased promotion and visibility for your business! \n\n\n\nWhether you are a new member to the Chamber\, a new representative looking to engage on behalf of your organization\, or a seasoned networker looking to connect with others in our local Harford County business community\, Coffee & Connections is for you!\n\n\n\nThere will be ample time of open networking and connecting with business representatives! Be sure to drop your business card in the bowl to be included on and receive our follow-up email with attendee contact information to continue to grow your network! (Please notify the Chamber team if you do not want your information to be distributed.)
X-ALT-DESC;FMTTYPE=text/html:<span style="color: rgb(0\, 0\, 0)\; font-family: arial\; font-size: 18px\; background-image: initial\; background-position: initial\; background-size: initial\; background-repeat: initial\; background-attachment: initial\; background-origin: initial\; background-clip: initial\;">Join us for Coffee &amp\; Connections\, your opportunity to network with dozens of local business professionals and receive increased promotion and visibility for your business!&nbsp\;</span><br style="color: rgb(0\, 0\, 0)\; font-family: arial\; font-size: 18px\;" />\n<br style="color: rgb(0\, 0\, 0)\; font-family: arial\; font-size: 18px\;" />\n<span style="color: rgb(0\, 0\, 0)\; font-family: arial\; font-size: 18px\; background-image: initial\; background-position: initial\; background-size: initial\; background-repeat: initial\; background-attachment: initial\; background-origin: initial\; background-clip: initial\;">Whether you are a new member to the Chamber\, a new representative looking to engage on behalf of your organization\, or a seasoned networker looking to connect with others in our local Harford County business community\, Coffee &amp\; Connections is for you!</span><br style="color: rgb(0\, 0\, 0)\; font-family: arial\; font-size: 18px\;" />\n<br style="color: rgb(0\, 0\, 0)\; font-family: arial\; font-size: 18px\;" />\n<span style="color: rgb(0\, 0\, 0)\; font-family: arial\; font-size: 18px\;">There will be ample time of open networking and connecting with business representatives! Be sure to drop your business card in the bowl to be included on and receive our follow-up email with attendee contact information to continue to grow your network! (</span><span style="color: rgb(0\, 0\, 0)\; font-family: arial\; font-size: 18px\; background-image: initial\; background-position: initial\; background-size: initial\; background-repeat: initial\; background-attachment: initial\; background-origin: initial\; background-clip: initial\;">Please notify the Chamber team if you do not want your information to be distributed.)</span>\n<p class="x_xmsonormal" style="margin: 0in\; font-size: 11pt\; font-family: Calibri\, sans-serif\; color: rgb(32\, 31\, 30)\;">&nbsp\;</p>\n
LOCATION:Each month is hosted by one of our members! This month is hosted by Key Point Health Services! 135 N. Parke St. in Aberdeen
UID:e.2776.15706
SEQUENCE:3
DTSTAMP:20260424T160133Z
URL:https://business.harfordchamber.org/events/details/coffee-connections-hosted-at-key-point-health-services-15706
END:VEVENT

END:VCALENDAR
