BEGIN:VCALENDAR
VERSION:2.0
PRODID:-//ChamberMaster//Event Calendar 2.0//EN
METHOD:PUBLISH
X-PUBLISHED-TTL:P3D
REFRESH-INTERVAL:P3D
CALSCALE:GREGORIAN
BEGIN:VEVENT
DTSTART:20210818T120000Z
DTEND:20210818T130000Z
X-MICROSOFT-CDO-ALLDAYEVENT:FALSE
SUMMARY:Coffee & Connections (In-person) Sponsored by APG Federal Credit Union
DESCRIPTION:*Please be advised this is an in-person event*\n\n\n\nCoffee & Connections is your opportunity to receive unparalleled networking resources and increased promotion and visibility for your business! These events are tailored to the business community to foster an environment that encourages professional and collaborative growth. \n\n\n\nWhether you are a new member to the Chamber\, a new representative looking to engage on behalf of your organization\, or simply a seasoned networker looking to connect with others in our local Harford County business community\, Coffee & Connections is your kind of event! \n\n\n\nParticipants are encouraged to introduce themselves to the group and give their "30 second elevator pitch" for their company or organization.\n\n\n\nTo promote continued connection outside of the event\, all participant information including name\, organization\, phone\, and email will be distributed to other participants at the event. Please notify the Chamber team if you do not want your information to be distributed. \n\n \nBy registering for this event\, you understand the following:\n\n\n	In accordance with the CDC recommendations and loosening of state restrictions\, masks are no longer required when participating in a Chamber event. If you are most comfortable wearing one\, you are free to do so\, and Chamber staff will continue to have sanitizer and masks on-site as needed. \n	Guests can enter the Chamber building to get water or use the restroom\n	Attendees cannot park behind the Chamber (parking is available in MaGerk's parking lot). DO NOT park in the Thomas/Bond Municipal Lot next to our building or you may be ticketed. \n	These events may be held outside or inside in the Chamber Board Room depending on attendance and weather conditions.
X-ALT-DESC;FMTTYPE=text/html:<span style="font-family:arial\;"><span style="color:#000000\;"><span style="font-size:14px\;"><span style="background:white\;"><strong>*Please be advised this is an in-person event*</strong><br />\n<br />\nCoffee &amp\; Connections is your opportunity to receive unparalleled networking resources and increased promotion and visibility for your business! These events are tailored to the business community to foster an environment that encourages professional and collaborative growth.&nbsp\;</span><br style="font-variant-ligatures:normal\;font-variant-caps:normal\;orphans:2\;text-align:start\;widows:2\;-webkit-text-stroke-width:0px\;text-decoration-style:initial\;word-spacing:0px\;" />\n<br style="font-variant-ligatures:normal\;font-variant-caps:normal\;orphans:2\;text-align:start\;widows:2\;-webkit-text-stroke-width:0px\;text-decoration-style:initial\;word-spacing:0px\;" />\n<span style="background:white\;"><span style="font-variant-ligatures:normal\;font-variant-caps:normal\;orphans:2\;text-align:start\;widows:2\;-webkit-text-stroke-width:0px\;text-decoration-style:initial\;float:none\;word-spacing:0px\;">Whether you are a new member to the Chamber\, a new representative looking to engage on behalf of your organization\, or simply a seasoned networker looking to connect with others in our local Harford County business community\, Coffee &amp\; Connections is your kind of event! </span></span><br />\n<br />\n<span style="background: white\;"><span style="font-variant-ligatures:normal\;font-variant-caps:normal\;orphans:2\;text-align:start\;widows:2\;-webkit-text-stroke-width:0px\;text-decoration-style:initial\;float:none\;word-spacing:0px\;">Participants are encouraged to introduce themselves to the group and give their &quot\;30 second elevator pitch&quot\; for their company or organization.</span></span><br style="font-variant-ligatures:normal\;font-variant-caps:normal\;orphans:2\;text-align:start\;widows:2\;-webkit-text-stroke-width:0px\;text-decoration-style:initial\;word-spacing:0px\;" />\n<br style="font-variant-ligatures:normal\;font-variant-caps:normal\;orphans:2\;text-align:start\;widows:2\;-webkit-text-stroke-width:0px\;text-decoration-style:initial\;word-spacing:0px\;" />\n<span style="background: white\;"><span style="orphans: 2\; text-align: start\; widows: 2\; text-decoration-style: initial\; float: none\;">To promote continued connection outside of the event\, all participant information including name\, organization\, phone\, and email will be distributed to other participants at the event. Please notify the Chamber team if you do not want your information to be distributed.&nbsp\;</span></span></span></span></span><br />\n&nbsp\;\n<p class="x_xmsonormal" style="margin: 0in\; font-size: 11pt\; font-family: Calibri\, sans-serif\; color: rgb(32\, 31\, 30)\;"><span style="font-family:arial\;"><span style="font-size:18px\;"><span style="color:#000000\;"><u><strong>By registering for this event\, you understand the following:</strong></u></span></span></span></p>\n\n<ul font-size:="" helvetica="" margin-top:="" segoe="" style="margin-bottom: 0in\;" type="disc" ui="" web="" west="">\n	<li style="color: rgb(32\, 31\, 30)\; margin-left: 0in\;"><span style="font-size:14px\;">In accordance with the CDC recommendations and loosening of state restrictions\, masks are no longer required when participating in a Chamber event. If you are most comfortable wearing one\, you are free to do so\, and Chamber staff will continue to have sanitizer and masks on-site as needed.&nbsp\;</span></li>\n	<li style="color: rgb(32\, 31\, 30)\; margin-left: 0in\;"><span style="font-size: 14px\;">Guests can enter the Chamber building to get water or use the restroom</span></li>\n	<li style="margin-left: 0in\;"><font color="#201f1e"><span style="font-size: 14px\;">Attendees </span></font><u style="color: rgb(32\, 31\, 30)\; font-size: 14px\;">cannot </u><font color="#201f1e"><span style="font-size: 14px\;">park behind the Chamber (parking is available in MaGerk&#39\;s parking lot). DO NOT park in the Thomas/Bond Municipal Lot next to our building or you may be ticketed.&nbsp\;</span></font></li>\n	<li style="margin-left: 0in\;"><font color="#201f1e"><span style="font-size: 14px\;">These events may be held outside or inside in the Chamber Board Room depending on attendance and weather conditions.&nbsp\;</span></font></li>\n</ul>\n
LOCATION:Harford County Chamber of Commerce 108 S. Bond Street\, Bel Air\, MD 21014 This will be an in-person event that may either be held outside in the Harford Chamber parking lot (directly behind the Chamber) or inside in the Chamber Board Room\, dependent on attendance and weather conditions. Please DO NOT park in the reserved parking spaces behind the Chamber. Please park in the MaGerk's parking lot or at nearby metered spots. DO NOT park in the Thomas/Bond Municipal lot or you may be ticketed. If the weather is not favorable for an outside event\, the event will be moved inside to the Chamber's Board Room. Attendees will be notified as soon as possible if this change occurs.
UID:e.2776.12353
SEQUENCE:3
DTSTAMP:20260423T061725Z
URL:https://business.harfordchamber.org/events/details/coffee-connections-in-person-sponsored-by-apg-federal-credit-union-12353
END:VEVENT

END:VCALENDAR
