BEGIN:VCALENDAR
VERSION:2.0
PRODID:-//ChamberMaster//Event Calendar 2.0//EN
METHOD:PUBLISH
X-PUBLISHED-TTL:P3D
REFRESH-INTERVAL:P3D
CALSCALE:GREGORIAN
BEGIN:VEVENT
DTSTART:20250401T210000Z
DTEND:20250402T000000Z
X-MICROSOFT-CDO-ALLDAYEVENT:FALSE
SUMMARY:ConnectPro Mega Networking Happy Hour
DESCRIPTION:Connect Pro Networking's 1st of many monthly happy hour events at the Fallston Barrel House with live acoustic music\, 50/50s\, a $100 gift card to The Screaming Bean as the door prize all for $10 bucks and you get a free drink ticket with the admission price.  Here is the link to buy tickets.  pay\,paybrightgateway.com/cpn.  Park around back and use the concert hall entrance or the patio entrance beside the concert hall.
X-ALT-DESC;FMTTYPE=text/html:Connect Pro Networking&#39\;s 1st of many monthly happy hour events at the Fallston Barrel House with live acoustic music\, 50/50s\, a $100 gift card to The Screaming Bean as the door prize all for $10 bucks and you get a free drink ticket with the admission price.&nbsp\; Here is the link to buy tickets.&nbsp\; pay\,paybrightgateway.com/cpn.&nbsp\; Park around back and use the concert hall entrance or the patio entrance beside the concert hall.&nbsp\;&nbsp\;
LOCATION:Fallston Barrel House 2403 Bel Air Rd Fallston MD 21407
UID:e.2776.15701
SEQUENCE:3
DTSTAMP:20260421T203434Z
URL:https://business.harfordchamber.org/events/details/connectpro-mega-networking-happy-hour-15701
END:VEVENT

END:VCALENDAR
