BEGIN:VCALENDAR
VERSION:2.0
PRODID:-//ChamberMaster//Event Calendar 2.0//EN
METHOD:PUBLISH
X-PUBLISHED-TTL:P3D
REFRESH-INTERVAL:P3D
CALSCALE:GREGORIAN
BEGIN:VEVENT
DTSTART:20250927T150000Z
DTEND:20250927T190000Z
X-MICROSOFT-CDO-ALLDAYEVENT:FALSE
SUMMARY:Cornhole for Craftsmen Fundraiser
DESCRIPTION:Cornhole Tournament to benefit the Seth Lark Foundation for Young Craftsmen\, Inc. \n\nSee flier attached for details
X-ALT-DESC;FMTTYPE=text/html:Cornhole Tournament to benefit the Seth Lark Foundation for Young Craftsmen\, Inc.&nbsp\;<br />\nSee flier attached for details
LOCATION:5th Company Brewing 325 Front Street Perryville\, Md. 21903
UID:e.2776.16039
SEQUENCE:3
DTSTAMP:20260421T111455Z
URL:https://business.harfordchamber.org/events/details/cornhole-for-craftsmen-fundraiser-16039
END:VEVENT

END:VCALENDAR
