BEGIN:VCALENDAR
VERSION:2.0
PRODID:-//ChamberMaster//Event Calendar 2.0//EN
METHOD:PUBLISH
X-PUBLISHED-TTL:P3D
REFRESH-INTERVAL:P3D
CALSCALE:GREGORIAN
BEGIN:VEVENT
DTSTART:20251023T220000Z
DTEND:20251023T230000Z
X-MICROSOFT-CDO-ALLDAYEVENT:FALSE
SUMMARY:Cozy Adult Story Time
DESCRIPTION:Harford County Public Library hosts Cozy Adult Story Time on October 23 from 6 to 7 p.m. at the Abingdon Library\, 2510 Tollgate Road. Escape to an hour of relaxing story time--for adults. Expect cozy stories\, meditation exercises and some light stretching to help unwind from the day. Participants should bring their own pillow and/or yoga mat\, blanket\, camping chair\, etc. Each person attending must register prior to the program at https://programs.hcplonline.org/event/14133989.
X-ALT-DESC;FMTTYPE=text/html:<span style="font-family:times new roman\,serif"><span style="font-size:14.0pt">Harford County Public Library hosts Cozy Adult Story Time on October 23 from 6 to 7 p.m. at the Abingdon Library\, 2510 Tollgate Road. Escape to an hour of relaxing story time--for adults. Expect cozy stories\, meditation exercises and some light stretching to help unwind from the day. Participants should bring their own pillow and/or yoga mat\, blanket\, camping chair\, etc. Each person attending must register prior to the program at </span></span><a href="https://programs.hcplonline.org/event/14133989"><span style="font-family:times new roman\,serif"><span style="font-size:14.0pt">https://programs.hcplonline.org/event/14133989</span></span></a><span style="font-family:times new roman\,serif"><span style="font-size:14.0pt">. </span></span><br />\n&nbsp\;
LOCATION:Abingdon Library\, 2510 Tollgate Road
UID:e.2776.16088
SEQUENCE:3
DTSTAMP:20260423T091706Z
URL:https://business.harfordchamber.org/events/details/cozy-adult-story-time-16088
END:VEVENT

END:VCALENDAR
