BEGIN:VCALENDAR
VERSION:2.0
PRODID:-//ChamberMaster//Event Calendar 2.0//EN
METHOD:PUBLISH
X-PUBLISHED-TTL:P3D
REFRESH-INTERVAL:P3D
CALSCALE:GREGORIAN
BEGIN:VEVENT
DTSTART:20250812T213000Z
DTEND:20250812T233000Z
X-MICROSOFT-CDO-ALLDAYEVENT:FALSE
SUMMARY:CPWN Pop-Up Shop and Sip Networking Event
DESCRIPTION:Come out and Join CPWN (Chesapeake Professional Women's Network) as they host a Pop-Up Shop & Sip networking event!
X-ALT-DESC;FMTTYPE=text/html:<span style="color:#000000\;"><span style="font-size:16px\;"><span style="font-family:arial\;">Come out and Join <strong>CPWN</strong></span>&nbsp\;(</span></span><span style="font-size: 16px\; color: rgb(34\, 46\, 63)\; font-weight: bold\;">Chesapeake Professional Women&#39\;s Network)&nbsp\;</span><span style="color:#000000\;"><span style="font-size:16px\;"><span style="font-family:arial\;">as they host</span></span> <font face="Arial\, Verdana\, Helvetica\, sans-serif"><span style="font-size: 16px\; white-space-collapse: preserve\;">a Pop-Up Shop &amp\; Sip networking event!</span></font></span>
LOCATION:Location: Evolved Catering & Events Center 2315 Belair Rd Unit B5 Fallston\, MD 21047
UID:e.2776.16034
SEQUENCE:3
DTSTAMP:20260421T130951Z
URL:https://business.harfordchamber.org/events/details/cpwn-pop-up-shop-and-sip-networking-event-16034
END:VEVENT

END:VCALENDAR
