BEGIN:VCALENDAR
VERSION:2.0
PRODID:-//ChamberMaster//Event Calendar 2.0//EN
METHOD:PUBLISH
X-PUBLISHED-TTL:P3D
REFRESH-INTERVAL:P3D
CALSCALE:GREGORIAN
BEGIN:VEVENT
DTSTART:20251030T220000Z
DTEND:20251030T230000Z
X-MICROSOFT-CDO-ALLDAYEVENT:FALSE
SUMMARY:Craft and Create: Day of the Dead
DESCRIPTION:Harford County Public Library hosts Craft and Create: Day of the Dead on October 30 from 6 to 7 p.m. at the Whiteford Library\, 2407 Whiteford Road. Participants\, grades 6-12 and adults\, are invited to make a craft with other craft lovers. All supplies provided. Each person attending must register prior to the program at https://programs.hcplonline.org/event/14135264.
X-ALT-DESC;FMTTYPE=text/html:<span style="font-family:times new roman\,serif"><span style="font-size:14.0pt">Harford County Public Library hosts Craft and Create: Day of the Dead on October 30 from 6 to 7 p.m. at the Whiteford Library\, 2407 Whiteford Road. Participants\, grades 6-12 and adults\, are invited to make a craft with other craft lovers. All supplies provided. Each person attending must register prior to the program at </span></span><a href="https://programs.hcplonline.org/event/14135264"><span style="font-family:times new roman\,serif"><span style="font-size:14.0pt">https://programs.hcplonline.org/event/14135264</span></span></a><span style="font-family:times new roman\,serif"><span style="font-size:14.0pt">. </span></span><br />\n&nbsp\;
LOCATION:Whiteford Library 2407 Whiteford Road Whiteford
UID:e.2776.16095
SEQUENCE:3
DTSTAMP:20260423T091634Z
URL:https://business.harfordchamber.org/events/details/craft-and-create-day-of-the-dead-16095
END:VEVENT

END:VCALENDAR
