BEGIN:VCALENDAR
VERSION:2.0
PRODID:-//ChamberMaster//Event Calendar 2.0//EN
METHOD:PUBLISH
X-PUBLISHED-TTL:P3D
REFRESH-INTERVAL:P3D
CALSCALE:GREGORIAN
BEGIN:VEVENT
DTSTART:20200115T230000Z
DTEND:20200116T010000Z
X-MICROSOFT-CDO-ALLDAYEVENT:FALSE
SUMMARY:Creative Marketing
DESCRIPTION:Learn from an industry expert how to:\n\n	Tell your story in a compelling way\n	Make strategic advertising choices\n	Stand out from your competitors\n\nVisit https://www.eventbrite.com/e/creative-marketing-workshop-tickets-83877123735 to register
X-ALT-DESC;FMTTYPE=text/html:Learn from an industry expert how to:\n<ul>\n	<li>Tell your story in a compelling way</li>\n	<li>Make strategic advertising choices</li>\n	<li>Stand out from your competitors</li>\n</ul>\nVisit&nbsp\;<a href="https://www.eventbrite.com/e/creative-marketing-workshop-tickets-83877123735">https://www.eventbrite.com/e/creative-marketing-workshop-tickets-83877123735</a>&nbsp\;to register
LOCATION:The GroundFloor 2021 Pulaski Highway Suite G Havre de Grace\, Maryland 21078
UID:e.2776.10611
SEQUENCE:3
DTSTAMP:20260424T234012Z
URL:https://business.harfordchamber.org/events/details/creative-marketing-10611
END:VEVENT

END:VCALENDAR
