BEGIN:VCALENDAR
VERSION:2.0
PRODID:-//ChamberMaster//Event Calendar 2.0//EN
METHOD:PUBLISH
X-PUBLISHED-TTL:P3D
REFRESH-INTERVAL:P3D
CALSCALE:GREGORIAN
BEGIN:VEVENT
DTSTART:20200402T143000Z
DTEND:20200402T153000Z
X-MICROSOFT-CDO-ALLDAYEVENT:FALSE
SUMMARY:Crisis Communications for Business - Free Webinar Taught by Joan Michel
DESCRIPTION:The COVID-19 pandemic has abruptly changed our lives and our businesses. For some businesses\, the show must go on\, and others will wait until they can resume operations. Regardless of which camp you are in\, this is the time to create a crisis communications strategy for your business or to dust it off if you already have one. A crisis communication plan outlines how you will communicate with your customers\, employees\, and vendors when the world has been turned upside down by internal or external events. During this one-hour seminar we will discuss the elements of communicating during a crisis. A simple crisis communications plan template will be shared and we'll help you adapt it for your business. \n\n \n\n\n\n\n\n\n\n\n\n\n\n\n\n\n\n\nJoan Michel has 25 years of experience helping federal\, state\, and local governments develop\, plan\, and implement strategic initiatives and is passionate about helping her clients create exceptional organizations. Through her firm Profile Partners  Joan provides change management consulting services to clients ranging from large government agencies and non-profits\, to school systems and small commercial firms. Prior to launching Profile Partners\, Joan was director of communications at an Army research and development laboratory in Maryland and provided crisis communications support to other federal agencies\, including Defense Telecommunications Service and Department of Homeland Security. Joan is currently pursuing a master's/PhD in Organization Development and Change.
X-ALT-DESC;FMTTYPE=text/html:The COVID-19 pandemic has abruptly changed our lives and our businesses. For some businesses\, the show must go on\, and others will wait until they can resume operations. Regardless of which camp you are in\, this is the time to create a crisis communications strategy for your business or to dust it off if you already have one. A crisis communication plan outlines how you will communicate with your customers\, employees\, and vendors when the world has been turned upside down by internal or external events. During this one-hour seminar we will discuss the elements of communicating during a crisis. A simple crisis communications plan template will be shared and we&#39\;ll help you adapt it for your business.&nbsp\;<br />\n&nbsp\;\n<blockquote style="color: rgb(32\, 31\, 30)\; font-family: &quot\;Segoe UI&quot\;\, &quot\;Segoe UI Web (West European)&quot\;\, &quot\;Segoe UI&quot\;\, -apple-system\, BlinkMacSystemFont\, Roboto\, &quot\;Helvetica Neue&quot\;\, sans-serif\; font-size: 15px\; font-style: normal\;" type="cite">\n<div dir="ltr" style="margin: 0px\; padding: 0px\; border: 0px\; font: inherit\; vertical-align: baseline\; color: inherit\;">\n<div style="margin: 0px\; padding: 0px\; border: 0px\; font: inherit\; vertical-align: baseline\; color: inherit\;">\n<div id="x_Signature" style="margin: 0px\; padding: 0px\; border: 0px\; font: inherit\; vertical-align: baseline\; color: inherit\;">\n<div style="margin: 0px\; padding: 0px\; border: 0px\; font: inherit\; vertical-align: baseline\; color: inherit\;">\n<div style="margin: 0px\; padding: 0px\; border: 0px\; font: inherit\; vertical-align: baseline\; color: inherit\; overflow-wrap: break-word\;">\n<div style="margin: 0px\; padding: 0px\; border: 0px\; font: inherit\; vertical-align: baseline\; color: inherit\;">\n<div style="margin: 0px\; padding: 0px\; border: 0px\; font: inherit\; vertical-align: baseline\; color: inherit\;">\n<div style="margin: 0px\; padding: 0px\; border: 0px\; font: inherit\; vertical-align: baseline\; color: inherit\;">\n<blockquote type="cite">\n<div style="margin: 0px\; padding: 0px\; border: 0px\; font: inherit\; vertical-align: baseline\; color: inherit\;">\n<div style="margin: 0px\; padding: 0px\; border: 0px\; font-variant-ligatures: inherit\; font-variant-numeric: inherit\; font-variant-east-asian: inherit\; font-stretch: inherit\; font-size: 12px\; line-height: inherit\; font-family: Helvetica\; vertical-align: baseline\; color: inherit\;">\n<div id="x_x_Signature" style="margin: 0px\; padding: 0px\; border: 0px\; font: inherit\; vertical-align: baseline\; color: inherit\;">\n<div style="margin: 0px\; padding: 0px\; border: 0px\; font: inherit\; vertical-align: baseline\; color: inherit\;">\n<div style="margin: 0px\; padding: 0px\; border: 0px\; font: inherit\; vertical-align: baseline\; color: inherit\; overflow-wrap: break-word\;">\n<div style="margin: 0px\; padding: 0px\; border: 0px\; font: inherit\; vertical-align: baseline\; color: inherit\;">\n<div style="margin: 0px\; padding: 0px\; border: 0px\; font: inherit\; vertical-align: baseline\; color: inherit\;"><em><span style="font-size:12px\;"><span style="font-family:arial\;"><span style="margin: 0px\; padding: 0px\; border: 0px\; font-style: inherit\; font-variant-caps: inherit\; font-variant-numeric: inherit\; font-variant-east-asian: inherit\; font-weight: inherit\; font-stretch: inherit\; line-height: inherit\; vertical-align: baseline\; color: inherit\;">Joan Michel has 25 years of experience helping federal\, state\, and local governments develop\, plan\, and implement strategic initiatives and is passionate about helping her clients create exceptional organizations. Through her firm&nbsp\;<a data-auth="NotApplicable" href="https://profilepartnersllc.com/" rel="noopener noreferrer" style="margin: 0px\; padding: 0px\; border: 0px\; font: inherit\; vertical-align: baseline\;" target="_blank">Profile Partners</a>&nbsp\; Joan provides change management consulting services to clients ranging from large government agencies and non-profits\, to school systems and small commercial firms. Prior to launching Profile Partners\, Joan was director of communications at an Army research and development laboratory in Maryland and provided crisis communications support to other federal agencies\, including Defense Telecommunications Service and Department of Homeland Security. Joan is currently pursuing a master&rsquo\;s/PhD in Organization Development and Change.</span></span></span></em></div>\n</div>\n</div>\n</div>\n</div>\n</div>\n</div>\n</blockquote>\n</div>\n</div>\n</div>\n</div>\n</div>\n</div>\n</div>\n</div>\n</blockquote>\n
LOCATION:Virtual - Register for this event and the webinar link will be sent to your email address. Sponsored by Group Benefit Strategies.
UID:e.2776.11763
SEQUENCE:3
DTSTAMP:20260424T162125Z
URL:https://business.harfordchamber.org/events/details/crisis-communications-for-business-free-webinar-taught-by-joan-michel-11763
END:VEVENT

END:VCALENDAR
