BEGIN:VCALENDAR
VERSION:2.0
PRODID:-//ChamberMaster//Event Calendar 2.0//EN
METHOD:PUBLISH
X-PUBLISHED-TTL:P3D
REFRESH-INTERVAL:P3D
CALSCALE:GREGORIAN
BEGIN:VEVENT
DTSTART:20190921T210000Z
DTEND:20190922T010000Z
X-MICROSOFT-CDO-ALLDAYEVENT:FALSE
SUMMARY:CTR’s Stirrup the Dust “Farm to Table” Dinner
DESCRIPTION:CTR is hosting the first-ever "Farm to Table" dInner in Bel Air on 9/21. Proceeds will help CTR continue to make a difference in the lives of children and adults with differing abilities\, including our veterans at Perry Point. This unique event with a "Homegrown Harford" focus features -Homestyle meal prepared by Mama Mishi's Homemade Dishes - Craft beer from Slate Farm Brewery - Wine from Fiore - Music by Troy & Tony
X-ALT-DESC;FMTTYPE=text/html:CTR is hosting the first-ever &ldquo\;Farm to Table&rdquo\; dInner in Bel Air on 9/21. Proceeds will help CTR continue to make a difference in the lives of children and adults with differing abilities\, including our veterans at Perry Point. This unique event with a &ldquo\;Homegrown Harford&rdquo\; focus features -Homestyle meal prepared by Mama Mishi&rsquo\;s Homemade Dishes - Craft beer from Slate Farm Brewery - Wine from Fiore - Music by Troy &amp\; Tony
LOCATION:Bel Air Armory
UID:e.2776.8531
SEQUENCE:3
DTSTAMP:20260426T012015Z
URL:https://business.harfordchamber.org/events/details/ctr-s-stirrup-the-dust-farm-to-table-dinner-8531
END:VEVENT

END:VCALENDAR
