BEGIN:VCALENDAR
VERSION:2.0
PRODID:-//ChamberMaster//Event Calendar 2.0//EN
METHOD:PUBLISH
X-PUBLISHED-TTL:P3D
REFRESH-INTERVAL:P3D
CALSCALE:GREGORIAN
BEGIN:VEVENT
DTSTART:20250517T130000Z
DTEND:20250517T190000Z
X-MICROSOFT-CDO-ALLDAYEVENT:FALSE
SUMMARY:Discovery Center at Water's Edge 4th Annual Magic of Science Fair and Family Festival
DESCRIPTION:Join thousands of curious minds at the Magic of Science Fair and Family Festival on Saturday\, May 17\, 2025\, for an unforgettable day of STEM-powered fun!\n\nFrom interactive exhibits and hands-on experiments to food trucks\, raffles\, and a silent auction there's something for everyone! Experience the thrill of robotics\, build and explore in the Carnival Game Zone\, and unleash your creativity with giant Blue Blocks and more.\n\n?? Enjoy face painting\,\n\n?? Catch live science shows by The Science Guys of Baltimore and Eric Energy\,\n\n??? Dive into Virtual Reality experiences\,\n\n?? Discover the Science of Brewing and grab a drink at our new Beer Garden with Market Street Brewery!\n\nFamilies will also enjoy wandering through our Exhibition Tents\, engaging with community partners\, and discovering how science connects to our daily lives. Whether you're programming robots\, winning prizes\, or just enjoying a slice of pizza\, this free-admission event guarantees fun for all ages.\n\nMark your calendars Magic awaits! Register for door prizes and contests at https://form.jotform.com/250825358577165
X-ALT-DESC;FMTTYPE=text/html:<div style="margin-left:0px\; margin-right:0px">\n<p><strong>Join thousands of curious minds at the Magic of Science Fair and Family Festival on Saturday\, May 17\, 2025\, for an unforgettable day of STEM-powered fun!</strong></p>\n\n<p>From interactive exhibits and hands-on experiments to food trucks\, raffles\, and a silent auction&mdash\;there&rsquo\;s something for everyone! Experience the thrill of robotics\, build and explore in the Carnival Game Zone\, and unleash your creativity with giant Blue Blocks and more.</p>\n\n<p>?? Enjoy face painting\,<br />\n?? Catch live science shows by The Science Guys of Baltimore and Eric Energy\,<br />\n??? Dive into Virtual Reality experiences\,<br />\n?? Discover the Science of Brewing and grab a drink at our new Beer Garden with Market Street Brewery!</p>\n\n<p>Families will also enjoy wandering through our Exhibition Tents\, engaging with community partners\, and discovering how science connects to our daily lives. Whether you&#39\;re programming robots\, winning prizes\, or just enjoying a slice of pizza\, this free-admission event guarantees fun for all ages.</p>\n\n<p><strong>Mark your calendars&mdash\;Magic awaits!&nbsp\;</strong><strong>Register for door prizes and contests at&nbsp\;<a href="https://form.jotform.com/250825358577165">https://form.jotform.com/250825358577165</a></strong></p>\n</div>\n
LOCATION:Townson University Northeastern\, Maryland (TUNE) across from Harford Community College (HCC) at 510 Thomas Run Rd.\, Bel Air\, MD
UID:e.2776.15721
SEQUENCE:3
DTSTAMP:20260421T184416Z
URL:https://business.harfordchamber.org/events/details/discovery-center-at-water-s-edge-4th-annual-magic-of-science-fair-and-family-festival-15721
END:VEVENT

END:VCALENDAR
