BEGIN:VCALENDAR
VERSION:2.0
PRODID:-//ChamberMaster//Event Calendar 2.0//EN
METHOD:PUBLISH
X-PUBLISHED-TTL:P3D
REFRESH-INTERVAL:P3D
CALSCALE:GREGORIAN
BEGIN:VEVENT
DTSTART:20251017T170000Z
DTEND:20251017T190000Z
X-MICROSOFT-CDO-ALLDAYEVENT:FALSE
SUMMARY:DIY Birdfeeders
DESCRIPTION:Harford County Public Library presents DIY Birdfeeders October 17 from 1 to 3 p.m. at the Abingdon Library\, 2510 Tollgate Road. Using soy butter and pinecones\, participants will make a treat for their feathered friends in the backyard. The program is for children in grades 3-8 and is supported by the Abingdon Friends of HCPL. For more information\, visit https://programs.hcplonline.org/event/14134602.
X-ALT-DESC;FMTTYPE=text/html:<span style="font-family:arial\,sans-serif">Harford County Public Library presents DIY Birdfeeders October 17 from 1 to 3 p.m. at the Abingdon Library\, 2510 Tollgate Road. Using soy butter and pinecones\, participants will make a treat for their feathered friends in the backyard. The program is for children in grades 3-8 and is supported by the Abingdon Friends of HCPL. For more information\, visit </span><a href="https://programs.hcplonline.org/event/14134602"><span style="font-family:arial\,sans-serif">https://programs.hcplonline.org/event/14134602</span></a><span style="font-family:arial\,sans-serif">. </span>
LOCATION:Abingdon Library 2510 Tollgate Road Abingdon
UID:e.2776.16107
SEQUENCE:3
DTSTAMP:20260423T091236Z
URL:https://business.harfordchamber.org/events/details/diy-birdfeeders-16107
END:VEVENT

END:VCALENDAR
